Workbook

Sheet AAA Competition(Master)
A2: Division | B2: DistNo | C2: Name | D2: LODGE | E2: Members | F2: Total Contributed | G2: Per-Capita
A3: 4 | B3: 2 | C3: MANDARIN | D3: 42 | E3: 1640 | F3: 71 | G3: =F3/E3 -> 0.043292683
A4: 4 | B4: 5 | C4: PALATKA | D4: 184 | E4: 1605 | F4: 84 | G4: =F4/E4 -> 0.052336449
A5: 3 | B5: 21 | C5: WEST BOCA RATON | D5: 204 | E5: 927 | F5: 28 | G5: =F5/E5 -> 0.030204962
A6: 3 | B6: 15 | C6: FORT PIERCE | D6: 248 | E6: 1069 | F6: 51 | G6: =F6/E6 -> 0.047708138
A7: 2 | B7: 4 | C7: SUWANEE RIVER | D7: 325 | E7: 659 | F7: 77 | G7: =F7/E7 -> 0.1168437
A8: 1 | B8: 22 | C8: PERRINE | D8: 380 | E8: 227 | F8: 18 | G8: =F8/E8 -> 0.079295154
A9: 2 | B9: 8 | C9: DADE CITY | D9: 397 | E9: 636 | F9: 30 | G9: =F9/E9 -> 0.047169811
A10: 2 | B10: 10 | C10: PALM HARBOR | D10: 433 | E10: 742 | F10: 38 | G10: =F10/E10 -> 0.051212938
A11: 2 | B11: 3 | C11: JACKSONVILLE | D11: 455 | E11: 568 | F11: 32 | G11: =F11/E11 -> 0.056338028
A12: 2 | B12: 15 | C12: PORT ST. LUCIE | D12: 513 | E12: 647 | F12: 50 | G12: =F12/E12 -> 0.077279753
A13: 3 | B13: 8 | C13: SPRING HILL | D13: 521 | E13: 870 | F13: 33 | G13: =F13/E13 -> 0.037931034
A14: 2 | B14: 1 | C14: PENSACOLA | D14: 557 | E14: 700 | F14: 39 | G14: =F14/E14 -> 0.055714286
... A120: 1 | B120: 2 | C120: OPPORTUNITY | D120: 3001 | E120: 207 | F120: 0 | G120: =F120/E120 -> 0

Sheet MC Sheet
A1: FRU | B1: LodgeNo | C1: NoFormatted | D1: Total Apps
A2: Anna Maria Island Lodge #2188 | B2: =_xlfn.TEXTAFTER(A2,"#") -> 2188 | C2: 2188 | D2: 62600
A3: Arcadia Lodge #1327 | B3: =_xlfn.TEXTAFTER(A3,"#") -> 1327 | C3: 1327 | D3: 1100 | F3: Credit $1000 to labelle 2398
A4: Big Pine Key Lodge #1585 | B4: =_xlfn.TEXTAFTER(A4,"#") -> 1585 | C4: 1585 | D4: 400 | F4: Credit $500 to Pensacola 557
A5: Bonita Springs Lodge #1454 | B5: =_xlfn.TEXTAFTER(A5,"#") -> 1454 | C5: 1454 | D5: 2800
A6: Bradenton Lodge #1223 | B6: =_xlfn.TEXTAFTER(A6,"#") -> 1223 | C6: 1223 | D6: 1000
A7: Brandon Lodge #1880 | B7: =_xlfn.TEXTAFTER(A7,"#") -> 1880 | C7: 1880 | D7: 2850
A8: Brooksville Lodge #1676 | B8: =_xlfn.TEXTAFTER(A8,"#") -> 1676 | C8: 1676 | D8: 600
A9: Caloosahatchee Lodge #2395 | B9: =_xlfn.TEXTAFTER(A9,"#") -> 2395 | C9: 2395 | D9: 200
A10: Cape Coral Lodge #2199 | B10: =_xlfn.TEXTAFTER(A10,"#") -> 2199 | C10: 2199 | D10: 700
A11: Cocoa Lodge #1717 | B11: =_xlfn.TEXTAFTER(A11,"#") -> 1717 | C11: 1717 | D11: 1048
A12: Crescent City Lodge #1641 | B12: =_xlfn.TEXTAFTER(A12,"#") -> 1641 | C12: 1641 | D12: 100
A13: Crystal River Lodge #2013 | B13: =_xlfn.TEXTAFTER(A13,"#") -> 2013 | C13: 2013 | D13: 150
A14: Dade City Lodge #397 | B14: =_xlfn.TEXTAFTER(A14,"#") -> 397 | C14: 397 | D14: 750
A15: Davie Lodge #1798 | B15: =_xlfn.TEXTAFTER(A15,"#") -> 1798 | C15: 1798 | D15: 637
A16: Daytona Beach Lodge #1263 | B16: =_xlfn.TEXTAFTER(A16,"#") -> 1263 | C16: 1263 | D16: 350
... A98: Zephyrhills Lodge #2276 | B98: =_xlfn.TEXTAFTER(A98,"#") -> 2276 | C98: 2276 | D98: 5300

Sheet AAA Competition Sorted
A1: FROM (ending 4/30/26)
A2: Count | E2: Members | F2: Avg Ret %
A3: =SUBTOTAL(2, A5:A95) -> 90 | E3: =SUBTOTAL(9,E5:E94) -> 27192 | F3: =SUBTOTAL(1,F5:F94) -> 76.130444
A4: Division | B4: Dist# | C4: Name | D4: Chapter | E4: Members | F4: Retention Percentage | G4: Ranking by Division
A5: ='AAA Competition(Master)'!A86 -> 4 | B5: ='AAA Competition(Master)'!B86 -> 13 | C5: ='AAA Competition(Master)'!C86 -> ANNA MARIA ISLAND | D5: 1601 | E5: 3287 | F5: 75.42 | G5: {=SUMPRODUCT(($A$5:$A$94=A5)*(F5<$F$5:$F$94))+1} -> 10
A6: ='AAA Competition(Master)'!A41 -> 3 | B6: ='AAA Competition(Master)'!B41 -> 14 | C6: ='AAA Competition(Master)'!C41 -> ARCADIA | D6: 1597 | E6: 232 | F6: 73.71 | G6: {=SUMPRODUCT(($A$5:$A$94=A6)*(F6<$F$5:$F$94))+1} -> 19
A7: 3 | B7: ='AAA Competition(Master)'!B48 -> 23 | C7: ='AAA Competition(Master)'!C48 -> BIG PINE KEY | D7: 1810 | E7: 339 | F7: 85.55 | G7: {=SUMPRODUCT(($A$5:$A$94=A7)*(F7<$F$5:$F$94))+1} -> 3
A8: ='AAA Competition(Master)'!A44 -> 4 | B8: ='AAA Competition(Master)'!B44 -> 20 | C8: ='AAA Competition(Master)'!C44 -> BONITA SPRINGS | D8: 1611 | E8: 482 | F8: 81.74 | G8: {=SUMPRODUCT(($A$5:$A$94=A8)*(F8<$F$5:$F$94))+1} -> 1
A9: ='AAA Competition(Master)'!A34 -> 4 | B9: ='AAA Competition(Master)'!B34 -> 13 | C9: ='AAA Competition(Master)'!C34 -> BRADENTON | D9: 1072 | E9: 506 | F9: 68.97 | G9: {=SUMPRODUCT(($A$5:$A$94=A9)*(F9<$F$5:$F$94))+1} -> 26
A10: 3 | B10: ='AAA Competition(Master)'!B67 -> 11 | C10: ='AAA Competition(Master)'!C67 -> BRANDON | D10: 1596 | E10: 300 | F10: 83 | G10: {=SUMPRODUCT(($A$5:$A$94=A10)*(F10<$F$5:$F$94))+1} -> 4
A11: ='AAA Competition(Master)'!A88 -> 4 | B11: ='AAA Competition(Master)'!B88 -> 18 | C11: ='AAA Competition(Master)'!C88 -> CAPE CORAL | D11: 815 | E11: 632 | F11: 71.36 | G11: {=SUMPRODUCT(($A$5:$A$94=A11)*(F11<$F$5:$F$94))+1} -> 21
A12: ='AAA Competition(Master)'!A55 -> 3 | B12: ='AAA Competition(Master)'!B55 -> 9 | C12: ='AAA Competition(Master)'!C55 -> COCOA | D12: 1383 | E12: 180 | F12: 75 | G12: {=SUMPRODUCT(($A$5:$A$94=A12)*(F12<$F$5:$F$94))+1} -> 17
A13: ='AAA Competition(Master)'!A50 -> 2 | B13: ='AAA Competition(Master)'!B50 -> 5 | C13: ='AAA Competition(Master)'!C50 -> CRESCENT CITY | D13: 1825 | E13: 205 | F13: 79.02 | G13: {=SUMPRODUCT(($A$5:$A$94=A13)*(F13<$F$5:$F$94))+1} -> 4
A14: 2 | B14: ='AAA Competition(Master)'!B74 -> 4 | C14: ='AAA Competition(Master)'!C74 -> CRYSTAL RIVER | D14: 1434 | E14: 246 | F14: 73.98 | G14: {=SUMPRODUCT(($A$5:$A$94=A14)*(F14<$F$5:$F$94))+1} -> 16
A15: 1 | B15: ='AAA Competition(Master)'!B9 -> 8 | C15: ='AAA Competition(Master)'!C9 -> DADE CITY | D15: 1747 | E15: 124 | F15: 54.84 | G15: {=SUMPRODUCT(($A$5:$A$94=A15)*(F15<$F$5:$F$94))+1} -> 18
A16: ='AAA Competition(Master)'!A62 -> 1 | B16: ='AAA Competition(Master)'!B62 -> 21 | C16: ='AAA Competition(Master)'!C62 -> DAVIE | D16: 1686 | E16: 115 | F16: 73.04 | G16: {=SUMPRODUCT(($A$5:$A$94=A16)*(F16<$F$5:$F$94))+1} -> 14
A17: ='AAA Competition(Master)'!A35 -> 4 | B17: ='AAA Competition(Master)'!B35 -> 5 | C17: ='AAA Competition(Master)'!C35 -> DAYTONA BEACH | D17: 1019 | E17: 498 | F17: 73.29 | G17: {=SUMPRODUCT(($A$5:$A$94=A17)*(F17<$F$5:$F$94))+1} -> 14
A18: 3 | B18: ='AAA Competition(Master)'!B30 -> 7 | C18: ='AAA Competition(Master)'!C30 -> DELAND | D18: 1003 | E18: 120 | F18: 79.17 | G18: {=SUMPRODUCT(($A$5:$A$94=A18)*(F18<$F$5:$F$94))+1} -> 9
A19: ='AAA Competition(Master)'!A98 -> 3 | B19: ='AAA Competition(Master)'!B98 -> 4 | C19: ='AAA Competition(Master)'!C98 -> DUNNELLON | D19: 1662 | E19: 248 | F19: 78.23 | G19: {=SUMPRODUCT(($A$5:$A$94=A19)*(F19<$F$5:$F$94))+1} -> 12
A20: ='AAA Competition(Master)'!A70 -> 4 | B20: ='AAA Competition(Master)'!B70 -> 16 | C20: ='AAA Competition(Master)'!C70 -> ENGLEWOOD | D20: 1582 | E20: 1268 | F20: 70.9 | G20: {=SUMPRODUCT(($A$5:$A$94=A20)*(F20<$F$5:$F$94))+1} -> 22
A21: ='AAA Competition(Master)'!A68 -> 4 | B21: ='AAA Competition(Master)'!B68 -> 19 | C21: ='AAA Competition(Master)'!C68 -> FORT MYERS | D21: 2461 | E21: 228 | F21: 75.88 | G21: {=SUMPRODUCT(($A$5:$A$94=A21)*(F21<$F$5:$F$94))+1} -> 9
A22: ='AAA Competition(Master)'!A23 -> 4 | B22: ='AAA Competition(Master)'!B23 -> 18 | C22: ='AAA Competition(Master)'!C23 -> FORT MYERS BCH | D22: 551 | E22: 454 | F22: 71.81 | G22: {=SUMPRODUCT(($A$5:$A$94=A22)*(F22<$F$5:$F$94))+1} -> 19
A23: ='AAA Competition(Master)'!A6 -> 3 | B23: ='AAA Competition(Master)'!B6 -> 15 | C23: ='AAA Competition(Master)'!C6 -> FORT PIERCE | D23: 1121 | E23: 179 | F23: 77.09 | G23: {=SUMPRODUCT(($A$5:$A$94=A23)*(F23<$F$5:$F$94))+1} -> 14
A24: 2 | B24: ='AAA Competition(Master)'!B87 -> 1 | C24: ='AAA Competition(Master)'!C87 -> FORT WALTON BEACH | D24: 2320 | E24: 124 | F24: 76.61 | G24: {=SUMPRODUCT(($A$5:$A$94=A24)*(F24<$F$5:$F$94))+1} -> 11
A25: 3 | B25: ='AAA Competition(Master)'!B17 -> 7 | C25: ='AAA Competition(Master)'!C17 -> FOUR TOWNES | D25: 1939 | E25: 215 | F25: 73.95 | G25: {=SUMPRODUCT(($A$5:$A$94=A25)*(F25<$F$5:$F$94))+1} -> 18
A26: ='AAA Competition(Master)'!A118 -> 4 | B26: ='AAA Competition(Master)'!B118 -> 16 | C26: ='AAA Competition(Master)'!C118 -> GULF COVE | D26: 2252 | E26: 332 | F26: 73.8 | G26: {=SUMPRODUCT(($A$5:$A$94=A26)*(F26<$F$5:$F$94))+1} -> 12
A27: 3 | B27: ='AAA Competition(Master)'!B15 -> 13 | C27: ='AAA Competition(Master)'!C15 -> GULF GATE | D27: 1770 | E27: 233 | F27: 76.39 | G27: {=SUMPRODUCT(($A$5:$A$94=A27)*(F27<$F$5:$F$94))+1} -> 16
A28: 1 | B28: ='AAA Competition(Master)'!B78 -> 12 | C28: ='AAA Competition(Master)'!C78 -> HAINES CITY | D28: 2127 | E28: 82 | F28: 81.71 | G28: {=SUMPRODUCT(($A$5:$A$94=A28)*(F28<$F$5:$F$94))+1} -> 5
A29: 1 | B29: ='AAA Competition(Master)'!B115 -> 5 | C29: ='AAA Competition(Master)'!C115 -> HALIFAX RIVER | D29: 2170 | E29: 99 | F29: 77.78 | G29: {=SUMPRODUCT(($A$5:$A$94=A29)*(F29<$F$5:$F$94))+1} -> 11
A30: 2 | B30: ='AAA Competition(Master)'!B113 -> 14 | C30: ='AAA Competition(Master)'!C113 -> HIGHLANDS CO | D30: 2256 | E30: 118 | F30: 74.58 | G30: {=SUMPRODUCT(($A$5:$A$94=A30)*(F30<$F$5:$F$94))+1} -> 14
A31: 3 | B31: ='AAA Competition(Master)'!B79 -> 4 | C31: ='AAA Competition(Master)'!C79 -> INVERNESS | D31: 1773 | E31: 254 | F31: 79.53 | G31: {=SUMPRODUCT(($A$5:$A$94=A31)*(F31<$F$5:$F$94))+1} -> 7
A32: 1 | B32: ='AAA Competition(Master)'!B11 -> 3 | C32: ='AAA Competition(Master)'!C11 -> JACKSONVILLE | D32: 305 | E32: 133 | F32: 78.95 | G32: {=SUMPRODUCT(($A$5:$A$94=A32)*(F32<$F$5:$F$94))+1} -> 9
A33: 3 | B33: ='AAA Competition(Master)'!B47 -> 3 | C33: ='AAA Competition(Master)'!C47 -> JACKSONVILLE BEACH | D33: 1381 | E33: 182 | F33: 80.22 | G33: {=SUMPRODUCT(($A$5:$A$94=A33)*(F33<$F$5:$F$94))+1} -> 6
A34: ='AAA Competition(Master)'!A53 -> 1 | B34: ='AAA Competition(Master)'!B53 -> 15 | C34: ='AAA Competition(Master)'!C53 -> JENSEN BEACH | D34: 1821 | E34: 51 | F34: 70.59 | G34: {=SUMPRODUCT(($A$5:$A$94=A34)*(F34<$F$5:$F$94))+1} -> 15
A35: ='AAA Competition(Master)'!A76 -> 1 | B35: ='AAA Competition(Master)'!B76 -> 6 | C35: ='AAA Competition(Master)'!C76 -> KISSIMMEE | D35: 1849 | E35: 75 | F35: 81.33 | G35: {=SUMPRODUCT(($A$5:$A$94=A35)*(F35<$F$5:$F$94))+1} -> 6
A36: 2 | B36: ='AAA Competition(Master)'!B16 -> 2 | C36: ='AAA Competition(Master)'!C16 -> LAKE CITY | D36: 1399 | E36: 153 | F36: 72.55 | G36: {=SUMPRODUCT(($A$5:$A$94=A36)*(F36<$F$5:$F$94))+1} -> 20
A37: 3 | B37: ='AAA Competition(Master)'!B105 -> 14 | C37: ='AAA Competition(Master)'!C105 -> LAKE PLACID | D37: 1960 | E37: 219 | F37: 69.86 | G37: {=SUMPRODUCT(($A$5:$A$94=A37)*(F37<$F$5:$F$94))+1} -> 23
A38: 3 | B38: ='AAA Competition(Master)'!B75 -> 2 | C38: ='AAA Competition(Master)'!C75 -> LAKE SHORE | D38: 1495 | E38: 619 | F38: 86.11 | G38: {=SUMPRODUCT(($A$5:$A$94=A38)*(F38<$F$5:$F$94))+1} -> 1
A39: ='AAA Competition(Master)'!A106 -> 3 | B39: ='AAA Competition(Master)'!B106 -> 12 | C39: ='AAA Competition(Master)'!C106 -> LAKE WALES | D39: 1974 | E39: 175 | F39: 67.43 | G39: {=SUMPRODUCT(($A$5:$A$94=A39)*(F39<$F$5:$F$94))+1} -> 24
A40: 2 | B40: ='AAA Competition(Master)'!B24 -> 17 | C40: ='AAA Competition(Master)'!C24 -> LAKE WORTH | D40: 46 | E40: 211 | F40: 76.78 | G40: {=SUMPRODUCT(($A$5:$A$94=A40)*(F40<$F$5:$F$94))+1} -> 10
...

Sheet WOTM Gain-Loss
A1: FROM 4/30/26 to 4/30/27 As of 10/1/2026
A2: Count | E2: Members | F2: Gain/Loss | G2: % Average
A3: =SUBTOTAL(2, A5:A95) -> 90 | E3: =SUBTOTAL(9,E5:E94) -> 23503 | F3: =SUBTOTAL(9,F5:F95) -> -1314 | G3: =SUBTOTAL(1,G5:G94) -> -0.053095031
A4: Division | B4: Dist# | C4: Name | D4: Chapter | E4: Members | F4: Gain Loss | G4: Gain/Loss % | H4: Ranking by Division
A5: 3 | B5: ='AAA Competition(Master)'!B86 -> 13 | C5: ='AAA Competition(Master)'!C86 -> ANNA MARIA ISLAND | D5: 1601 | E5: 2695 | F5: -196 | G5: =F5/E5 -> -0.072727273 | H5: {=SUMPRODUCT(($A$5:$A$94=A5)*(G5<$G$5:$G$94))+1} -> 21
A6: 2 | B6: ='AAA Competition(Master)'!B41 -> 14 | C6: ='AAA Competition(Master)'!C41 -> ARCADIA | D6: 1597 | E6: 209 | F6: -9 | G6: =F6/E6 -> -0.043062201 | H6: {=SUMPRODUCT(($A$5:$A$94=A6)*(G6<$G$5:$G$94))+1} -> 9
A7: 3 | B7: ='AAA Competition(Master)'!B48 -> 23 | C7: ='AAA Competition(Master)'!C48 -> BIG PINE KEY | D7: 1810 | E7: 359 | F7: -2 | G7: =F7/E7 -> -0.0055710306 | H7: {=SUMPRODUCT(($A$5:$A$94=A7)*(G7<$G$5:$G$94))+1} -> 3
A8: 3 | B8: ='AAA Competition(Master)'!B44 -> 20 | C8: ='AAA Competition(Master)'!C44 -> BONITA SPRINGS | D8: 1611 | E8: 455 | F8: -47 | G8: =F8/E8 -> -0.1032967 | H8: {=SUMPRODUCT(($A$5:$A$94=A8)*(G8<$G$5:$G$94))+1} -> 28
A9: 3 | B9: ='AAA Competition(Master)'!B34 -> 13 | C9: ='AAA Competition(Master)'!C34 -> BRADENTON | D9: 1072 | E9: 368 | F9: -25 | G9: =F9/E9 -> -0.067934783 | H9: {=SUMPRODUCT(($A$5:$A$94=A9)*(G9<$G$5:$G$94))+1} -> 20
A10: 3 | B10: ='AAA Competition(Master)'!B67 -> 11 | C10: ='AAA Competition(Master)'!C67 -> BRANDON | D10: 1596 | E10: 291 | F10: -14 | G10: =F10/E10 -> -0.048109966 | H10: {=SUMPRODUCT(($A$5:$A$94=A10)*(G10<$G$5:$G$94))+1} -> 13
A11: 3 | B11: ='AAA Competition(Master)'!B88 -> 18 | C11: ='AAA Competition(Master)'!C88 -> CAPE CORAL | D11: 815 | E11: 487 | F11: -37 | G11: =F11/E11 -> -0.075975359 | H11: {=SUMPRODUCT(($A$5:$A$94=A11)*(G11<$G$5:$G$94))+1} -> 22
A12: 2 | B12: ='AAA Competition(Master)'!B55 -> 9 | C12: ='AAA Competition(Master)'!C55 -> COCOA | D12: 1383 | E12: 159 | F12: -14 | G12: =F12/E12 -> -0.088050314 | H12: {=SUMPRODUCT(($A$5:$A$94=A12)*(G12<$G$5:$G$94))+1} -> 21
A13: 2 | B13: ='AAA Competition(Master)'!B50 -> 5 | C13: ='AAA Competition(Master)'!C50 -> CRESCENT CITY | D13: 1825 | E13: 185 | F13: -6 | G13: =F13/E13 -> -0.032432432 | H13: {=SUMPRODUCT(($A$5:$A$94=A13)*(G13<$G$5:$G$94))+1} -> 8
A14: 2 | B14: ='AAA Competition(Master)'!B74 -> 4 | C14: ='AAA Competition(Master)'!C74 -> CRYSTAL RIVER | D14: 1434 | E14: 189 | F14: -13 | G14: =F14/E14 -> -0.068783069 | H14: {=SUMPRODUCT(($A$5:$A$94=A14)*(G14<$G$5:$G$94))+1} -> 17
A15: 1 | B15: ='AAA Competition(Master)'!B9 -> 8 | C15: ='AAA Competition(Master)'!C9 -> DADE CITY | D15: 1747 | E15: 69 | F15: -8 | G15: =F15/E15 -> -0.11594203 | H15: {=SUMPRODUCT(($A$5:$A$94=A15)*(G15<$G$5:$G$94))+1} -> 31
A16: 1 | B16: ='AAA Competition(Master)'!B62 -> 21 | C16: ='AAA Competition(Master)'!C62 -> DAVIE | D16: 1686 | E16: 90 | F16: -9 | G16: =F16/E16 -> -0.1 | H16: {=SUMPRODUCT(($A$5:$A$94=A16)*(G16<$G$5:$G$94))+1} -> 28
A17: 3 | B17: ='AAA Competition(Master)'!B35 -> 5 | C17: ='AAA Competition(Master)'!C35 -> DAYTONA BEACH | D17: 1019 | E17: 394 | F17: -19 | G17: =F17/E17 -> -0.04822335 | H17: {=SUMPRODUCT(($A$5:$A$94=A17)*(G17<$G$5:$G$94))+1} -> 14
A18: 1 | B18: ='AAA Competition(Master)'!B30 -> 7 | C18: ='AAA Competition(Master)'!C30 -> DELAND | D18: 1003 | E18: 129 | F18: 0 | G18: =F18/E18 -> 0 | H18: {=SUMPRODUCT(($A$5:$A$94=A18)*(G18<$G$5:$G$94))+1} -> 6
A19: 3 | B19: ='AAA Competition(Master)'!B98 -> 4 | C19: ='AAA Competition(Master)'!C98 -> DUNNELLON | D19: 1662 | E19: 279 | F19: -3 | G19: =F19/E19 -> -0.010752688 | H19: {=SUMPRODUCT(($A$5:$A$94=A19)*(G19<$G$5:$G$94))+1} -> 5
A20: 3 | B20: ='AAA Competition(Master)'!B70 -> 16 | C20: ='AAA Competition(Master)'!C70 -> ENGLEWOOD | D20: 1582 | E20: 1054 | F20: -65 | G20: =F20/E20 -> -0.061669829 | H20: {=SUMPRODUCT(($A$5:$A$94=A20)*(G20<$G$5:$G$94))+1} -> 16
A21: 2 | B21: ='AAA Competition(Master)'!B68 -> 19 | C21: ='AAA Competition(Master)'!C68 -> FORT MYERS | D21: 2461 | E21: 196 | F21: -12 | G21: =F21/E21 -> -0.06122449 | H21: {=SUMPRODUCT(($A$5:$A$94=A21)*(G21<$G$5:$G$94))+1} -> 15
A22: 3 | B22: ='AAA Competition(Master)'!B23 -> 18 | C22: ='AAA Competition(Master)'!C23 -> FORT MYERS BCH | D22: 551 | E22: 336 | F22: -27 | G22: =F22/E22 -> -0.080357143 | H22: {=SUMPRODUCT(($A$5:$A$94=A22)*(G22<$G$5:$G$94))+1} -> 24
A23: 2 | B23: ='AAA Competition(Master)'!B6 -> 15 | C23: ='AAA Competition(Master)'!C6 -> FORT PIERCE | D23: 1121 | E23: 201 | F23: -19 | G23: =F23/E23 -> -0.094527363 | H23: {=SUMPRODUCT(($A$5:$A$94=A23)*(G23<$G$5:$G$94))+1} -> 24
A24: 1 | B24: ='AAA Competition(Master)'!B87 -> 1 | C24: ='AAA Competition(Master)'!C87 -> FORT WALTON BEACH | D24: 2320 | E24: 112 | F24: -11 | G24: =F24/E24 -> -0.098214286 | H24: {=SUMPRODUCT(($A$5:$A$94=A24)*(G24<$G$5:$G$94))+1} -> 27
A25: 2 | B25: ='AAA Competition(Master)'!B17 -> 7 | C25: ='AAA Competition(Master)'!C17 -> FOUR TOWNES | D25: 1939 | E25: 195 | F25: -16 | G25: =F25/E25 -> -0.082051282 | H25: {=SUMPRODUCT(($A$5:$A$94=A25)*(G25<$G$5:$G$94))+1} -> 20
A26: 3 | B26: ='AAA Competition(Master)'!B118 -> 16 | C26: ='AAA Competition(Master)'!C118 -> GULF COVE | D26: 2252 | E26: 279 | F26: 1 | G26: =F26/E26 -> 0.0035842294 | H26: {=SUMPRODUCT(($A$5:$A$94=A26)*(G26<$G$5:$G$94))+1} -> 2
A27: 2 | B27: ='AAA Competition(Master)'!B15 -> 13 | C27: ='AAA Competition(Master)'!C15 -> GULF GATE | D27: 1770 | E27: 221 | F27: -24 | G27: =F27/E27 -> -0.10859729 | H27: {=SUMPRODUCT(($A$5:$A$94=A27)*(G27<$G$5:$G$94))+1} -> 26
A28: 1 | B28: ='AAA Competition(Master)'!B78 -> 12 | C28: ='AAA Competition(Master)'!C78 -> HAINES CITY | D28: 2127 | E28: 100 | F28: -5 | G28: =F28/E28 -> -0.05 | H28: {=SUMPRODUCT(($A$5:$A$94=A28)*(G28<$G$5:$G$94))+1} -> 17
A29: 1 | B29: ='AAA Competition(Master)'!B115 -> 5 | C29: ='AAA Competition(Master)'!C115 -> HALIFAX RIVER | D29: 2170 | E29: 88 | F29: -10 | G29: =F29/E29 -> -0.11363636 | H29: {=SUMPRODUCT(($A$5:$A$94=A29)*(G29<$G$5:$G$94))+1} -> 30
A30: 1 | B30: ='AAA Competition(Master)'!B113 -> 14 | C30: ='AAA Competition(Master)'!C113 -> HIGHLANDS CO | D30: 2256 | E30: 99 | F30: -2 | G30: =F30/E30 -> -0.02020202 | H30: {=SUMPRODUCT(($A$5:$A$94=A30)*(G30<$G$5:$G$94))+1} -> 9
A31: 2 | B31: ='AAA Competition(Master)'!B79 -> 4 | C31: ='AAA Competition(Master)'!C79 -> INVERNESS | D31: 1773 | E31: 255 | F31: -4 | G31: =F31/E31 -> -0.015686275 | H31: {=SUMPRODUCT(($A$5:$A$94=A31)*(G31<$G$5:$G$94))+1} -> 5
A32: 1 | B32: ='AAA Competition(Master)'!B11 -> 3 | C32: ='AAA Competition(Master)'!C11 -> JACKSONVILLE | D32: 305 | E32: 116 | F32: 4 | G32: =F32/E32 -> 0.034482759 | H32: {=SUMPRODUCT(($A$5:$A$94=A32)*(G32<$G$5:$G$94))+1} -> 4
A33: 2 | B33: ='AAA Competition(Master)'!B47 -> 3 | C33: ='AAA Competition(Master)'!C47 -> JACKSONVILLE BEACH | D33: 1381 | E33: 183 | F33: 1 | G33: =F33/E33 -> 0.0054644809 | H33: {=SUMPRODUCT(($A$5:$A$94=A33)*(G33<$G$5:$G$94))+1} -> 2
A34: 1 | B34: ='AAA Competition(Master)'!B53 -> 15 | C34: ='AAA Competition(Master)'!C53 -> JENSEN BEACH | D34: 1821 | E34: 39 | F34: -8 | G34: =F34/E34 -> -0.20512821 | H34: {=SUMPRODUCT(($A$5:$A$94=A34)*(G34<$G$5:$G$94))+1} -> 32
A35: 1 | B35: ='AAA Competition(Master)'!B76 -> 6 | C35: ='AAA Competition(Master)'!C76 -> KISSIMMEE | D35: 1849 | E35: 65 | F35: 7 | G35: =F35/E35 -> 0.10769231 | H35: {=SUMPRODUCT(($A$5:$A$94=A35)*(G35<$G$5:$G$94))+1} -> 1
A36: 1 | B36: ='AAA Competition(Master)'!B16 -> 2 | C36: ='AAA Competition(Master)'!C16 -> LAKE CITY | D36: 1399 | E36: 126 | F36: -4 | G36: =F36/E36 -> -0.031746032 | H36: {=SUMPRODUCT(($A$5:$A$94=A36)*(G36<$G$5:$G$94))+1} -> 11
A37: 2 | B37: ='AAA Competition(Master)'!B105 -> 14 | C37: ='AAA Competition(Master)'!C105 -> LAKE PLACID | D37: 1960 | E37: 164 | F37: -23 | G37: =F37/E37 -> -0.1402439 | H37: {=SUMPRODUCT(($A$5:$A$94=A37)*(G37<$G$5:$G$94))+1} -> 29
A38: 3 | B38: ='AAA Competition(Master)'!B75 -> 2 | C38: ='AAA Competition(Master)'!C75 -> LAKE SHORE | D38: 1495 | E38: 563 | F38: -10 | G38: =F38/E38 -> -0.017761989 | H38: {=SUMPRODUCT(($A$5:$A$94=A38)*(G38<$G$5:$G$94))+1} -> 7
A39: 1 | B39: ='AAA Competition(Master)'!B106 -> 12 | C39: ='AAA Competition(Master)'!C106 -> LAKE WALES | D39: 1974 | E39: 145 | F39: -4 | G39: =F39/E39 -> -0.027586207 | H39: {=SUMPRODUCT(($A$5:$A$94=A39)*(G39<$G$5:$G$94))+1} -> 10
A40: 2 | B40: ='AAA Competition(Master)'!B24 -> 17 | C40: ='AAA Competition(Master)'!C24 -> LAKE WORTH | D40: 46 | E40: 180 | F40: -12 | G40: =F40/E40 -> -0.066666667 | H40: {=SUMPRODUCT(($A$5:$A$94=A40)*(G40<$G$5:$G$94))+1} -> 16
...
