Workbook

Sheet AAA Competition(Master)
A2: Division | B2: DistNo | C2: Name | D2: LODGE | E2: Members | F2: Total Contributed | G2: Per-Capita
A3: 4 | B3: 2 | C3: MANDARIN | D3: 42 | E3: 1640 | F3: 71 | G3: =F3/E3 -> 0.043292683
A4: 4 | B4: 5 | C4: PALATKA | D4: 184 | E4: 1605 | F4: 84 | G4: =F4/E4 -> 0.052336449
A5: 3 | B5: 21 | C5: WEST BOCA RATON | D5: 204 | E5: 927 | F5: 28 | G5: =F5/E5 -> 0.030204962
A6: 3 | B6: 15 | C6: FORT PIERCE | D6: 248 | E6: 1069 | F6: 51 | G6: =F6/E6 -> 0.047708138
A7: 2 | B7: 4 | C7: SUWANEE RIVER | D7: 325 | E7: 659 | F7: 77 | G7: =F7/E7 -> 0.1168437
A8: 1 | B8: 22 | C8: PERRINE | D8: 380 | E8: 227 | F8: 18 | G8: =F8/E8 -> 0.079295154
A9: 2 | B9: 8 | C9: DADE CITY | D9: 397 | E9: 636 | F9: 30 | G9: =F9/E9 -> 0.047169811
A10: 2 | B10: 10 | C10: PALM HARBOR | D10: 433 | E10: 742 | F10: 38 | G10: =F10/E10 -> 0.051212938
A11: 2 | B11: 3 | C11: JACKSONVILLE | D11: 455 | E11: 568 | F11: 32 | G11: =F11/E11 -> 0.056338028
A12: 2 | B12: 15 | C12: PORT ST. LUCIE | D12: 513 | E12: 647 | F12: 50 | G12: =F12/E12 -> 0.077279753
A13: 3 | B13: 8 | C13: SPRING HILL | D13: 521 | E13: 870 | F13: 33 | G13: =F13/E13 -> 0.037931034
A14: 2 | B14: 1 | C14: PENSACOLA | D14: 557 | E14: 700 | F14: 39 | G14: =F14/E14 -> 0.055714286
... A120: 1 | B120: 2 | C120: OPPORTUNITY | D120: 3001 | E120: 207 | F120: 0 | G120: =F120/E120 -> 0

Sheet MC Sheet
A1: FRU | B1: LodgeNo | C1: NoFormatted | D1: Total Apps
A2: Anna Maria Island Lodge #2188 | B2: =_xlfn.TEXTAFTER(A2,"#") -> 2188 | C2: 2188 | D2: 62600
A3: Arcadia Lodge #1327 | B3: =_xlfn.TEXTAFTER(A3,"#") -> 1327 | C3: 1327 | D3: 1100 | F3: Credit $1000 to labelle 2398
A4: Big Pine Key Lodge #1585 | B4: =_xlfn.TEXTAFTER(A4,"#") -> 1585 | C4: 1585 | D4: 400 | F4: Credit $500 to Pensacola 557
A5: Bonita Springs Lodge #1454 | B5: =_xlfn.TEXTAFTER(A5,"#") -> 1454 | C5: 1454 | D5: 2800
A6: Bradenton Lodge #1223 | B6: =_xlfn.TEXTAFTER(A6,"#") -> 1223 | C6: 1223 | D6: 1000
A7: Brandon Lodge #1880 | B7: =_xlfn.TEXTAFTER(A7,"#") -> 1880 | C7: 1880 | D7: 2850
A8: Brooksville Lodge #1676 | B8: =_xlfn.TEXTAFTER(A8,"#") -> 1676 | C8: 1676 | D8: 600
A9: Caloosahatchee Lodge #2395 | B9: =_xlfn.TEXTAFTER(A9,"#") -> 2395 | C9: 2395 | D9: 200
A10: Cape Coral Lodge #2199 | B10: =_xlfn.TEXTAFTER(A10,"#") -> 2199 | C10: 2199 | D10: 700
A11: Cocoa Lodge #1717 | B11: =_xlfn.TEXTAFTER(A11,"#") -> 1717 | C11: 1717 | D11: 1048
A12: Crescent City Lodge #1641 | B12: =_xlfn.TEXTAFTER(A12,"#") -> 1641 | C12: 1641 | D12: 100
A13: Crystal River Lodge #2013 | B13: =_xlfn.TEXTAFTER(A13,"#") -> 2013 | C13: 2013 | D13: 150
A14: Dade City Lodge #397 | B14: =_xlfn.TEXTAFTER(A14,"#") -> 397 | C14: 397 | D14: 750
A15: Davie Lodge #1798 | B15: =_xlfn.TEXTAFTER(A15,"#") -> 1798 | C15: 1798 | D15: 637
A16: Daytona Beach Lodge #1263 | B16: =_xlfn.TEXTAFTER(A16,"#") -> 1263 | C16: 1263 | D16: 350
... A98: Zephyrhills Lodge #2276 | B98: =_xlfn.TEXTAFTER(A98,"#") -> 2276 | C98: 2276 | D98: 5300

Sheet AAA Competition Sorted
A1: FROM (ending 4/30/26)
A2: Count | E2: Members | F2: Avg Ret %
A3: =SUBTOTAL(2, A5:A95) -> 90 | E3: =SUBTOTAL(9,E5:E94) -> 27192 | F3: =SUBTOTAL(1,F5:F94) -> 76.130444
A4: Division | B4: Dist# | C4: Name | D4: Chapter | E4: Members | F4: Retention Percentage | G4: Ranking by Division
A5: ='AAA Competition(Master)'!A86 -> 4 | B5: ='AAA Competition(Master)'!B86 -> 13 | C5: ='AAA Competition(Master)'!C86 -> ANNA MARIA ISLAND | D5: 1601 | E5: 3287 | F5: 75.42 | G5: {=SUMPRODUCT(($A$5:$A$94=A5)*(F5<$F$5:$F$94))+1} -> 10
A6: ='AAA Competition(Master)'!A41 -> 3 | B6: ='AAA Competition(Master)'!B41 -> 14 | C6: ='AAA Competition(Master)'!C41 -> ARCADIA | D6: 1597 | E6: 232 | F6: 73.71 | G6: {=SUMPRODUCT(($A$5:$A$94=A6)*(F6<$F$5:$F$94))+1} -> 19
A7: 3 | B7: ='AAA Competition(Master)'!B48 -> 23 | C7: ='AAA Competition(Master)'!C48 -> BIG PINE KEY | D7: 1810 | E7: 339 | F7: 85.55 | G7: {=SUMPRODUCT(($A$5:$A$94=A7)*(F7<$F$5:$F$94))+1} -> 3
A8: ='AAA Competition(Master)'!A44 -> 4 | B8: ='AAA Competition(Master)'!B44 -> 20 | C8: ='AAA Competition(Master)'!C44 -> BONITA SPRINGS | D8: 1611 | E8: 482 | F8: 81.74 | G8: {=SUMPRODUCT(($A$5:$A$94=A8)*(F8<$F$5:$F$94))+1} -> 1
A9: ='AAA Competition(Master)'!A34 -> 4 | B9: ='AAA Competition(Master)'!B34 -> 13 | C9: ='AAA Competition(Master)'!C34 -> BRADENTON | D9: 1072 | E9: 506 | F9: 68.97 | G9: {=SUMPRODUCT(($A$5:$A$94=A9)*(F9<$F$5:$F$94))+1} -> 26
A10: 3 | B10: ='AAA Competition(Master)'!B67 -> 11 | C10: ='AAA Competition(Master)'!C67 -> BRANDON | D10: 1596 | E10: 300 | F10: 83 | G10: {=SUMPRODUCT(($A$5:$A$94=A10)*(F10<$F$5:$F$94))+1} -> 4
A11: ='AAA Competition(Master)'!A88 -> 4 | B11: ='AAA Competition(Master)'!B88 -> 18 | C11: ='AAA Competition(Master)'!C88 -> CAPE CORAL | D11: 815 | E11: 632 | F11: 71.36 | G11: {=SUMPRODUCT(($A$5:$A$94=A11)*(F11<$F$5:$F$94))+1} -> 21
A12: ='AAA Competition(Master)'!A55 -> 3 | B12: ='AAA Competition(Master)'!B55 -> 9 | C12: ='AAA Competition(Master)'!C55 -> COCOA | D12: 1383 | E12: 180 | F12: 75 | G12: {=SUMPRODUCT(($A$5:$A$94=A12)*(F12<$F$5:$F$94))+1} -> 17
A13: ='AAA Competition(Master)'!A50 -> 2 | B13: ='AAA Competition(Master)'!B50 -> 5 | C13: ='AAA Competition(Master)'!C50 -> CRESCENT CITY | D13: 1825 | E13: 205 | F13: 79.02 | G13: {=SUMPRODUCT(($A$5:$A$94=A13)*(F13<$F$5:$F$94))+1} -> 4
A14: 2 | B14: ='AAA Competition(Master)'!B74 -> 4 | C14: ='AAA Competition(Master)'!C74 -> CRYSTAL RIVER | D14: 1434 | E14: 246 | F14: 73.98 | G14: {=SUMPRODUCT(($A$5:$A$94=A14)*(F14<$F$5:$F$94))+1} -> 16
A15: 1 | B15: ='AAA Competition(Master)'!B9 -> 8 | C15: ='AAA Competition(Master)'!C9 -> DADE CITY | D15: 1747 | E15: 124 | F15: 54.84 | G15: {=SUMPRODUCT(($A$5:$A$94=A15)*(F15<$F$5:$F$94))+1} -> 18
A16: ='AAA Competition(Master)'!A62 -> 1 | B16: ='AAA Competition(Master)'!B62 -> 21 | C16: ='AAA Competition(Master)'!C62 -> DAVIE | D16: 1686 | E16: 115 | F16: 73.04 | G16: {=SUMPRODUCT(($A$5:$A$94=A16)*(F16<$F$5:$F$94))+1} -> 14
A17: ='AAA Competition(Master)'!A35 -> 4 | B17: ='AAA Competition(Master)'!B35 -> 5 | C17: ='AAA Competition(Master)'!C35 -> DAYTONA BEACH | D17: 1019 | E17: 498 | F17: 73.29 | G17: {=SUMPRODUCT(($A$5:$A$94=A17)*(F17<$F$5:$F$94))+1} -> 14
A18: 3 | B18: ='AAA Competition(Master)'!B30 -> 7 | C18: ='AAA Competition(Master)'!C30 -> DELAND | D18: 1003 | E18: 120 | F18: 79.17 | G18: {=SUMPRODUCT(($A$5:$A$94=A18)*(F18<$F$5:$F$94))+1} -> 9
A19: ='AAA Competition(Master)'!A98 -> 3 | B19: ='AAA Competition(Master)'!B98 -> 4 | C19: ='AAA Competition(Master)'!C98 -> DUNNELLON | D19: 1662 | E19: 248 | F19: 78.23 | G19: {=SUMPRODUCT(($A$5:$A$94=A19)*(F19<$F$5:$F$94))+1} -> 12
A20: ='AAA Competition(Master)'!A70 -> 4 | B20: ='AAA Competition(Master)'!B70 -> 16 | C20: ='AAA Competition(Master)'!C70 -> ENGLEWOOD | D20: 1582 | E20: 1268 | F20: 70.9 | G20: {=SUMPRODUCT(($A$5:$A$94=A20)*(F20<$F$5:$F$94))+1} -> 22
A21: ='AAA Competition(Master)'!A68 -> 4 | B21: ='AAA Competition(Master)'!B68 -> 19 | C21: ='AAA Competition(Master)'!C68 -> FORT MYERS | D21: 2461 | E21: 228 | F21: 75.88 | G21: {=SUMPRODUCT(($A$5:$A$94=A21)*(F21<$F$5:$F$94))+1} -> 9
A22: ='AAA Competition(Master)'!A23 -> 4 | B22: ='AAA Competition(Master)'!B23 -> 18 | C22: ='AAA Competition(Master)'!C23 -> FORT MYERS BCH | D22: 551 | E22: 454 | F22: 71.81 | G22: {=SUMPRODUCT(($A$5:$A$94=A22)*(F22<$F$5:$F$94))+1} -> 19
A23: ='AAA Competition(Master)'!A6 -> 3 | B23: ='AAA Competition(Master)'!B6 -> 15 | C23: ='AAA Competition(Master)'!C6 -> FORT PIERCE | D23: 1121 | E23: 179 | F23: 77.09 | G23: {=SUMPRODUCT(($A$5:$A$94=A23)*(F23<$F$5:$F$94))+1} -> 14
A24: 2 | B24: ='AAA Competition(Master)'!B87 -> 1 | C24: ='AAA Competition(Master)'!C87 -> FORT WALTON BEACH | D24: 2320 | E24: 124 | F24: 76.61 | G24: {=SUMPRODUCT(($A$5:$A$94=A24)*(F24<$F$5:$F$94))+1} -> 11
A25: 3 | B25: ='AAA Competition(Master)'!B17 -> 7 | C25: ='AAA Competition(Master)'!C17 -> FOUR TOWNES | D25: 1939 | E25: 215 | F25: 73.95 | G25: {=SUMPRODUCT(($A$5:$A$94=A25)*(F25<$F$5:$F$94))+1} -> 18
A26: ='AAA Competition(Master)'!A118 -> 4 | B26: ='AAA Competition(Master)'!B118 -> 16 | C26: ='AAA Competition(Master)'!C118 -> GULF COVE | D26: 2252 | E26: 332 | F26: 73.8 | G26: {=SUMPRODUCT(($A$5:$A$94=A26)*(F26<$F$5:$F$94))+1} -> 12
A27: 3 | B27: ='AAA Competition(Master)'!B15 -> 13 | C27: ='AAA Competition(Master)'!C15 -> GULF GATE | D27: 1770 | E27: 233 | F27: 76.39 | G27: {=SUMPRODUCT(($A$5:$A$94=A27)*(F27<$F$5:$F$94))+1} -> 16
A28: 1 | B28: ='AAA Competition(Master)'!B78 -> 12 | C28: ='AAA Competition(Master)'!C78 -> HAINES CITY | D28: 2127 | E28: 82 | F28: 81.71 | G28: {=SUMPRODUCT(($A$5:$A$94=A28)*(F28<$F$5:$F$94))+1} -> 5
A29: 1 | B29: ='AAA Competition(Master)'!B115 -> 5 | C29: ='AAA Competition(Master)'!C115 -> HALIFAX RIVER | D29: 2170 | E29: 99 | F29: 77.78 | G29: {=SUMPRODUCT(($A$5:$A$94=A29)*(F29<$F$5:$F$94))+1} -> 11
A30: 2 | B30: ='AAA Competition(Master)'!B113 -> 14 | C30: ='AAA Competition(Master)'!C113 -> HIGHLANDS CO | D30: 2256 | E30: 118 | F30: 74.58 | G30: {=SUMPRODUCT(($A$5:$A$94=A30)*(F30<$F$5:$F$94))+1} -> 14
A31: 3 | B31: ='AAA Competition(Master)'!B79 -> 4 | C31: ='AAA Competition(Master)'!C79 -> INVERNESS | D31: 1773 | E31: 254 | F31: 79.53 | G31: {=SUMPRODUCT(($A$5:$A$94=A31)*(F31<$F$5:$F$94))+1} -> 7
A32: 1 | B32: ='AAA Competition(Master)'!B11 -> 3 | C32: ='AAA Competition(Master)'!C11 -> JACKSONVILLE | D32: 305 | E32: 133 | F32: 78.95 | G32: {=SUMPRODUCT(($A$5:$A$94=A32)*(F32<$F$5:$F$94))+1} -> 9
A33: 3 | B33: ='AAA Competition(Master)'!B47 -> 3 | C33: ='AAA Competition(Master)'!C47 -> JACKSONVILLE BEACH | D33: 1381 | E33: 182 | F33: 80.22 | G33: {=SUMPRODUCT(($A$5:$A$94=A33)*(F33<$F$5:$F$94))+1} -> 6
A34: ='AAA Competition(Master)'!A53 -> 1 | B34: ='AAA Competition(Master)'!B53 -> 15 | C34: ='AAA Competition(Master)'!C53 -> JENSEN BEACH | D34: 1821 | E34: 51 | F34: 70.59 | G34: {=SUMPRODUCT(($A$5:$A$94=A34)*(F34<$F$5:$F$94))+1} -> 15
A35: ='AAA Competition(Master)'!A76 -> 1 | B35: ='AAA Competition(Master)'!B76 -> 6 | C35: ='AAA Competition(Master)'!C76 -> KISSIMMEE | D35: 1849 | E35: 75 | F35: 81.33 | G35: {=SUMPRODUCT(($A$5:$A$94=A35)*(F35<$F$5:$F$94))+1} -> 6
A36: 2 | B36: ='AAA Competition(Master)'!B16 -> 2 | C36: ='AAA Competition(Master)'!C16 -> LAKE CITY | D36: 1399 | E36: 153 | F36: 72.55 | G36: {=SUMPRODUCT(($A$5:$A$94=A36)*(F36<$F$5:$F$94))+1} -> 20
A37: 3 | B37: ='AAA Competition(Master)'!B105 -> 14 | C37: ='AAA Competition(Master)'!C105 -> LAKE PLACID | D37: 1960 | E37: 219 | F37: 69.86 | G37: {=SUMPRODUCT(($A$5:$A$94=A37)*(F37<$F$5:$F$94))+1} -> 23
A38: 3 | B38: ='AAA Competition(Master)'!B75 -> 2 | C38: ='AAA Competition(Master)'!C75 -> LAKE SHORE | D38: 1495 | E38: 619 | F38: 86.11 | G38: {=SUMPRODUCT(($A$5:$A$94=A38)*(F38<$F$5:$F$94))+1} -> 1
A39: ='AAA Competition(Master)'!A106 -> 3 | B39: ='AAA Competition(Master)'!B106 -> 12 | C39: ='AAA Competition(Master)'!C106 -> LAKE WALES | D39: 1974 | E39: 175 | F39: 67.43 | G39: {=SUMPRODUCT(($A$5:$A$94=A39)*(F39<$F$5:$F$94))+1} -> 24
A40: 2 | B40: ='AAA Competition(Master)'!B24 -> 17 | C40: ='AAA Competition(Master)'!C24 -> LAKE WORTH | D40: 46 | E40: 211 | F40: 76.78 | G40: {=SUMPRODUCT(($A$5:$A$94=A40)*(F40<$F$5:$F$94))+1} -> 10
A41: ='AAA Competition(Master)'!A69 -> 3 | B41: ='AAA Competition(Master)'!B69 -> 8 | C41: ='AAA Competition(Master)'!C69 -> LAND O' LAKES | D41: 2322 | E41: 132 | F41: 78.79 | G41: {=SUMPRODUCT(($A$5:$A$94=A41)*(F41<$F$5:$F$94))+1} -> 10
A42: 1 | B42: ='AAA Competition(Master)'!B89 -> 10 | C42: ='AAA Competition(Master)'!C89 -> LARGO | D42: 1697 | E42: 129 | F42: 85.27 | G42: {=SUMPRODUCT(($A$5:$A$94=A42)*(F42<$F$5:$F$94))+1} -> 2
A43: ='AAA Competition(Master)'!A94 -> 4 | B43: ='AAA Competition(Master)'!B94 -> 21 | C43: ='AAA Competition(Master)'!C94 -> LAUDERDALE LAKES | D43: 1699 | E43: 323 | F43: 78.95 | G43: {=SUMPRODUCT(($A$5:$A$94=A43)*(F43<$F$5:$F$94))+1} -> 4
A44: ='AAA Competition(Master)'!A36 -> 4 | B44: ='AAA Competition(Master)'!B36 -> 6 | C44: ='AAA Competition(Master)'!C36 -> LEESBURG | D44: 1034 | E44: 246 | F44: 69.51 | G44: {=SUMPRODUCT(($A$5:$A$94=A44)*(F44<$F$5:$F$94))+1} -> 23
A45: 1 | B45: ='AAA Competition(Master)'!B91 -> 22 | C45: ='AAA Competition(Master)'!C91 -> LEISURE CITY | D45: 1572 | E45: 153 | F45: 83.66 | G45: {=SUMPRODUCT(($A$5:$A$94=A45)*(F45<$F$5:$F$94))+1} -> 3
A46: ='AAA Competition(Master)'!A3 -> 4 | B46: ='AAA Competition(Master)'!B3 -> 2 | C46: ='AAA Competition(Master)'!C3 -> MANDARIN | D46: 1218 | E46: 377 | F46: 79.58 | G46: {=SUMPRODUCT(($A$5:$A$94=A46)*(F46<$F$5:$F$94))+1} -> 3
A47: ='AAA Competition(Master)'!A27 -> 1 | B47: ='AAA Competition(Master)'!B27 -> 1 | C47: ='AAA Competition(Master)'!C27 -> MARIANNA | D47: 1286 | E47: 58 | F47: 75.86 | G47: {=SUMPRODUCT(($A$5:$A$94=A47)*(F47<$F$5:$F$94))+1} -> 12
A48: 2 | B48: ='AAA Competition(Master)'!B43 -> 9 | C48: ='AAA Competition(Master)'!C43 -> MELBOURNE | D48: 1046 | E48: 278 | F48: 77.7 | G48: {=SUMPRODUCT(($A$5:$A$94=A48)*(F48<$F$5:$F$94))+1} -> 9
A49: ='AAA Competition(Master)'!A77 -> 4 | B49: ='AAA Competition(Master)'!B77 -> 9 | C49: ='AAA Competition(Master)'!C77 -> MERRITT ISLAND | D49: 1544 | E49: 684 | F49: 74.27 | G49: {=SUMPRODUCT(($A$5:$A$94=A49)*(F49<$F$5:$F$94))+1} -> 11
A50: ='AAA Competition(Master)'!A32 -> 1 | B50: ='AAA Competition(Master)'!B32 -> 21 | C50: ='AAA Competition(Master)'!C32 -> MIRAMAR | D50: 1698 | E50: 60 | F50: 80 | G50: {=SUMPRODUCT(($A$5:$A$94=A50)*(F50<$F$5:$F$94))+1} -> 8
A51: ='AAA Competition(Master)'!A61 -> 4 | B51: ='AAA Competition(Master)'!B61 -> 20 | C51: ='AAA Competition(Master)'!C61 -> NAPLES | D51: 1304 | E51: 365 | F51: 69.32 | G51: {=SUMPRODUCT(($A$5:$A$94=A51)*(F51<$F$5:$F$94))+1} -> 25
A52: ='AAA Competition(Master)'!A101 -> 3 | B52: ='AAA Competition(Master)'!B101 -> 3 | C52: ='AAA Competition(Master)'!C101 -> NASSAU | D52: 2355 | E52: 164 | F52: 78.66 | G52: {=SUMPRODUCT(($A$5:$A$94=A52)*(F52<$F$5:$F$94))+1} -> 11
A53: ='AAA Competition(Master)'!A57 -> 3 | B53: ='AAA Competition(Master)'!B57 -> 8 | C53: ='AAA Competition(Master)'!C57 -> NEW PORT RICHEY | D53: 925 | E53: 184 | F53: 72.28 | G53: {=SUMPRODUCT(($A$5:$A$94=A53)*(F53<$F$5:$F$94))+1} -> 20
A54: ='AAA Competition(Master)'!A65 -> 3 | B54: ='AAA Competition(Master)'!B65 -> 7 | C54: ='AAA Competition(Master)'!C65 -> NEW SMYRNA BEACH | D54: 1515 | E54: 151 | F54: 81.46 | G54: {=SUMPRODUCT(($A$5:$A$94=A54)*(F54<$F$5:$F$94))+1} -> 5
A55: 2 | B55: ='AAA Competition(Master)'!B104 -> 10 | C55: ='AAA Competition(Master)'!C104 -> NORTH BAY | D55: 2303 | E55: 157 | F55: 89.81 | G55: {=SUMPRODUCT(($A$5:$A$94=A55)*(F55<$F$5:$F$94))+1} -> 1
A56: 2 | B56: ='AAA Competition(Master)'!B56 -> 11 | C56: ='AAA Competition(Master)'!C56 -> NORTH HILLSBORO | D56: 1763 | E56: 139 | F56: 72.66 | G56: {=SUMPRODUCT(($A$5:$A$94=A56)*(F56<$F$5:$F$94))+1} -> 19
A57: ='AAA Competition(Master)'!A18 -> 4 | B57: ='AAA Competition(Master)'!B18 -> 16 | C57: ='AAA Competition(Master)'!C18 -> NORTH PORT | D57: 1892 | E57: 528 | F57: 71.59 | G57: {=SUMPRODUCT(($A$5:$A$94=A57)*(F57<$F$5:$F$94))+1} -> 20
A58: 2 | B58: ='AAA Competition(Master)'!B116 -> 4 | C58: ='AAA Competition(Master)'!C116 -> OCALA FOREST | D58: 2182 | E58: 125 | F58: 79.2 | G58: {=SUMPRODUCT(($A$5:$A$94=A58)*(F58<$F$5:$F$94))+1} -> 3
A59: 1 | B59: ='AAA Competition(Master)'!B58 -> 15 | C59: ='AAA Competition(Master)'!C58 -> OKEECHOBEE | D59: 956 | E59: 118 | F59: 78.81 | G59: {=SUMPRODUCT(($A$5:$A$94=A59)*(F59<$F$5:$F$94))+1} -> 10
A60: 3 | B60: ='AAA Competition(Master)'!B19 -> 6 | C60: ='AAA Competition(Master)'!C19 -> ORLANDO | D60: 1002 | E60: 339 | F60: 76.4 | G60: {=SUMPRODUCT(($A$5:$A$94=A60)*(F60<$F$5:$F$94))+1} -> 15
A61: ='AAA Competition(Master)'!A4 -> 4 | B61: ='AAA Competition(Master)'!B4 -> 5 | C61: ='AAA Competition(Master)'!C4 -> PALATKA | D61: 1915 | E61: 556 | F61: 72.84 | G61: {=SUMPRODUCT(($A$5:$A$94=A61)*(F61<$F$5:$F$94))+1} -> 17
A62: 2 | B62: ='AAA Competition(Master)'!B99 -> 9 | C62: ='AAA Competition(Master)'!C99 -> PALM BAY | D62: 2193 | E62: 142 | F62: 73.94 | G62: {=SUMPRODUCT(($A$5:$A$94=A62)*(F62<$F$5:$F$94))+1} -> 17
A63: ='AAA Competition(Master)'!A73 -> 4 | B63: ='AAA Competition(Master)'!B73 -> 17 | C63: ='AAA Competition(Master)'!C73 -> PALM BCH GARDENS | D63: 1471 | E63: 459 | F63: 79.74 | G63: {=SUMPRODUCT(($A$5:$A$94=A63)*(F63<$F$5:$F$94))+1} -> 2
A64: 2 | B64: ='AAA Competition(Master)'!B10 -> 10 | C64: ='AAA Competition(Master)'!C10 -> PALM HARBOR | D64: 30 | E64: 124 | F64: 73.39 | G64: {=SUMPRODUCT(($A$5:$A$94=A64)*(F64<$F$5:$F$94))+1} -> 18
A65: ='AAA Competition(Master)'!A80 -> 4 | B65: ='AAA Competition(Master)'!B80 -> 13 | C65: ='AAA Competition(Master)'!C80 -> PALMETTO | D65: 1225 | E65: 480 | F65: 73.75 | G65: {=SUMPRODUCT(($A$5:$A$94=A65)*(F65<$F$5:$F$94))+1} -> 13
A66: ='AAA Competition(Master)'!A42 -> 1 | B66: ='AAA Competition(Master)'!B42 -> 1 | C66: ='AAA Competition(Master)'!C42 -> PANAMA CITY | D66: 1756 | E66: 53 | F66: 81.13 | G66: {=SUMPRODUCT(($A$5:$A$94=A66)*(F66<$F$5:$F$94))+1} -> 7
A67: ='AAA Competition(Master)'!A8 -> 1 | B67: ='AAA Competition(Master)'!B8 -> 22 | C67: ='AAA Competition(Master)'!C8 -> PERRINE | D67: 1610 | E67: 38 | F67: 89.47 | G67: {=SUMPRODUCT(($A$5:$A$94=A67)*(F67<$F$5:$F$94))+1} -> 1
A68: ='AAA Competition(Master)'!A100 -> 3 | B68: ='AAA Competition(Master)'!B100 -> 6 | C68: ='AAA Competition(Master)'!C100 -> PINE CASTLE | D68: 1917 | E68: 175 | F68: 85.71 | G68: {=SUMPRODUCT(($A$5:$A$94=A68)*(F68<$F$5:$F$94))+1} -> 2
A69: ='AAA Competition(Master)'!A71 -> 4 | B69: ='AAA Competition(Master)'!B71 -> 18 | C69: ='AAA Competition(Master)'!C71 -> PINE ISLAND | D69: 1843 | E69: 252 | F69: 69.44 | G69: {=SUMPRODUCT(($A$5:$A$94=A69)*(F69<$F$5:$F$94))+1} -> 24
A70: 2 | B70: ='AAA Competition(Master)'!B84 -> 21 | C70: ='AAA Competition(Master)'!C84 -> POMPANO BCH | D70: 600 | E70: 181 | F70: 78.45 | G70: {=SUMPRODUCT(($A$5:$A$94=A70)*(F70<$F$5:$F$94))+1} -> 6
A71: ='AAA Competition(Master)'!A81 -> 4 | B71: ='AAA Competition(Master)'!B81 -> 16 | C71: ='AAA Competition(Master)'!C81 -> PORT CHARLOTTE | D71: 1619 | E71: 679 | F71: 72.9 | G71: {=SUMPRODUCT(($A$5:$A$94=A71)*(F71<$F$5:$F$94))+1} -> 15
A72: ='AAA Competition(Master)'!A12 -> 2 | B72: ='AAA Competition(Master)'!B12 -> 15 | C72: ='AAA Competition(Master)'!C12 -> PORT ST. LUCIE | D72: 1236 | E72: 134 | F72: 78.36 | G72: {=SUMPRODUCT(($A$5:$A$94=A72)*(F72<$F$5:$F$94))+1} -> 7
A73: ='AAA Competition(Master)'!A54 -> 4 | B73: ='AAA Competition(Master)'!B54 -> 16 | C73: ='AAA Competition(Master)'!C54 -> PUNTA GORDA | D73: 777 | E73: 328 | F73: 77.13 | G73: {=SUMPRODUCT(($A$5:$A$94=A73)*(F73<$F$5:$F$94))+1} -> 5
A74: ='AAA Competition(Master)'!A119 -> 1 | B74: ='AAA Competition(Master)'!B119 -> 1 | C74: ='AAA Competition(Master)'!C119 -> QUINCY | D74: 2398 | E74: 45 | F74: 68.89 | G74: {=SUMPRODUCT(($A$5:$A$94=A74)*(F74<$F$5:$F$94))+1} -> 16
A75: 1 | B75: ='AAA Competition(Master)'!B85 -> 11 | C75: ='AAA Competition(Master)'!C85 -> RIVERVIEW | D75: 1031 | E75: 201 | F75: 74.13 | G75: {=SUMPRODUCT(($A$5:$A$94=A75)*(F75<$F$5:$F$94))+1} -> 13
A76: ='AAA Competition(Master)'!A66 -> 3 | B76: ='AAA Competition(Master)'!B66 -> 7 | C76: ='AAA Competition(Master)'!C66 -> SANFORD | D76: 1404 | E76: 335 | F76: 71.94 | G76: {=SUMPRODUCT(($A$5:$A$94=A76)*(F76<$F$5:$F$94))+1} -> 22
A77: 2 | B77: ='AAA Competition(Master)'!B40 -> 13 | C77: ='AAA Competition(Master)'!C40 -> SARASOTA | D77: 1968 | E77: 301 | F77: 77.74 | G77: {=SUMPRODUCT(($A$5:$A$94=A77)*(F77<$F$5:$F$94))+1} -> 8
A78: ='AAA Competition(Master)'!A103 -> 4 | B78: ='AAA Competition(Master)'!B103 -> 9 | C78: ='AAA Competition(Master)'!C103 -> SATELLITE BEACH | D78: 1983 | E78: 249 | F78: 76.71 | G78: {=SUMPRODUCT(($A$5:$A$94=A78)*(F78<$F$5:$F$94))+1} -> 7
A79: 3 | B79: ='AAA Competition(Master)'!B60 -> 9 | C79: ='AAA Competition(Master)'!C60 -> SEBASTIAN RIVER | D79: 1764 | E79: 247 | F79: 72.06 | G79: {=SUMPRODUCT(($A$5:$A$94=A79)*(F79<$F$5:$F$94))+1} -> 21
A80: ='AAA Competition(Master)'!A33 -> 2 | B80: ='AAA Competition(Master)'!B33 -> 4 | C80: ='AAA Competition(Master)'!C33 -> SILVER SPRINGS | D80: 459 | E80: 121 | F80: 75.21 | G80: {=SUMPRODUCT(($A$5:$A$94=A80)*(F80<$F$5:$F$94))+1} -> 13
A81: ='AAA Competition(Master)'!A49 -> 3 | B81: ='AAA Competition(Master)'!B49 -> 6 | C81: ='AAA Competition(Master)'!C49 -> SOUTH LAKE COUNTY | D81: 1170 | E81: 174 | F81: 79.31 | G81: {=SUMPRODUCT(($A$5:$A$94=A81)*(F81<$F$5:$F$94))+1} -> 8
A82: 2 | B82: ='AAA Competition(Master)'!B13 -> 8 | C82: ='AAA Competition(Master)'!C13 -> SPRING HILL | D82: 1765 | E82: 251 | F82: 78.49 | G82: {=SUMPRODUCT(($A$5:$A$94=A82)*(F82<$F$5:$F$94))+1} -> 5
A83: ='AAA Competition(Master)'!A37 -> 1 | B83: ='AAA Competition(Master)'!B37 -> 17 | C83: ='AAA Competition(Master)'!C37 -> STUART | D83: 1651 | E83: 119 | F83: 68.07 | G83: {=SUMPRODUCT(($A$5:$A$94=A83)*(F83<$F$5:$F$94))+1} -> 17
A84: ='AAA Competition(Master)'!A29 -> 3 | B84: ='AAA Competition(Master)'!B29 -> 1 | C84: ='AAA Competition(Master)'!C29 -> TALLAHASSEE | D84: 1103 | E84: 241 | F84: 77.59 | G84: {=SUMPRODUCT(($A$5:$A$94=A84)*(F84<$F$5:$F$94))+1} -> 13
A85: ='AAA Competition(Master)'!A38 -> 4 | B85: ='AAA Competition(Master)'!B38 -> 19 | C85: ='AAA Competition(Master)'!C38 -> TICE & THE SHORES | D85: 562 | E85: 416 | F85: 75.96 | G85: {=SUMPRODUCT(($A$5:$A$94=A85)*(F85<$F$5:$F$94))+1} -> 8
A86: 2 | B86: ='AAA Competition(Master)'!B72 -> 7 | C86: ='AAA Competition(Master)'!C72 -> TITUSVILLE | D86: 1485 | E86: 103 | F86: 70.87 | G86: {=SUMPRODUCT(($A$5:$A$94=A86)*(F86<$F$5:$F$94))+1} -> 21
A87: ='AAA Competition(Master)'!A39 -> 4 | B87: ='AAA Competition(Master)'!B39 -> 16 | C87: ='AAA Competition(Master)'!C39 -> VENICE | D87: 758 | E87: 995 | F87: 67.54 | G87: {=SUMPRODUCT(($A$5:$A$94=A87)*(F87<$F$5:$F$94))+1} -> 27
A88: ='AAA Competition(Master)'!A63 -> 4 | B88: ='AAA Competition(Master)'!B63 -> 15 | C88: ='AAA Competition(Master)'!C63 -> VERO BEACH | D88: 1541 | E88: 413 | F88: 72.88 | G88: {=SUMPRODUCT(($A$5:$A$94=A88)*(F88<$F$5:$F$94))+1} -> 16
A89: ='AAA Competition(Master)'!A114 -> 2 | B89: ='AAA Competition(Master)'!B114 -> 1 | C89: ='AAA Competition(Master)'!C114 -> WAKULLA COUNTY | D89: 2224 | E89: 150 | F89: 76 | G89: {=SUMPRODUCT(($A$5:$A$94=A89)*(F89<$F$5:$F$94))+1} -> 12
A90: 2 | B90: ='AAA Competition(Master)'!B5 -> 21 | C90: ='AAA Competition(Master)'!C5 -> WEST BOCA RATON | D90: 2273 | E90: 222 | F90: 81.08 | G90: {=SUMPRODUCT(($A$5:$A$94=A90)*(F90<$F$5:$F$94))+1} -> 2
A91: ='AAA Competition(Master)'!A64 -> 1 | B91: ='AAA Competition(Master)'!B64 -> 22 | C91: ='AAA Competition(Master)'!C64 -> WEST DADE | D91: 1472 | E91: 102 | F91: 83.33 | G91: {=SUMPRODUCT(($A$5:$A$94=A91)*(F91<$F$5:$F$94))+1} -> 4
A92: 2 | B92: ='AAA Competition(Master)'!B117 -> 7 | C92: ='AAA Competition(Master)'!C117 -> WEST VOLUSIA | D92: 2202 | E92: 182 | F92: 74.18 | G92: {=SUMPRODUCT(($A$5:$A$94=A92)*(F92<$F$5:$F$94))+1} -> 15
A93: ='AAA Competition(Master)'!A26 -> 4 | B93: ='AAA Competition(Master)'!B26 -> 12 | C93: ='AAA Competition(Master)'!C26 -> WINTER HAVEN | D93: 1152 | E93: 368 | F93: 76.9 | G93: {=SUMPRODUCT(($A$5:$A$94=A93)*(F93<$F$5:$F$94))+1} -> 6
A94: ='AAA Competition(Master)'!A95 -> 4 | B94: ='AAA Competition(Master)'!B95 -> 8 | C94: ='AAA Competition(Master)'!C95 -> ZEPHYRHILLS | D94: 1682 | E94: 728 | F94: 72.66 | G94: {=SUMPRODUCT(($A$5:$A$94=A94)*(F94<$F$5:$F$94))+1} -> 18

Sheet WOTM Gain-Loss
A1: FROM 4/30/26 to 4/30/27 As of 10/1/2026
A2: Count | E2: Members | F2: Gain/Loss | G2: % Average
A3: =SUBTOTAL(2, A5:A95) -> 90 | E3: =SUBTOTAL(9,E5:E94) -> 23503 | F3: =SUBTOTAL(9,F5:F95) -> -1314 | G3: =SUBTOTAL(1,G5:G94) -> -0.053095031
A4: Division | B4: Dist# | C4: Name | D4: Chapter | E4: Members | F4: Gain Loss | G4: Gain/Loss % | H4: Ranking by Division
A5: 3 | B5: ='AAA Competition(Master)'!B86 -> 13 | C5: ='AAA Competition(Master)'!C86 -> ANNA MARIA ISLAND | D5: 1601 | E5: 2695 | F5: -196 | G5: =F5/E5 -> -0.072727273 | H5: {=SUMPRODUCT(($A$5:$A$94=A5)*(G5<$G$5:$G$94))+1} -> 21
A6: 2 | B6: ='AAA Competition(Master)'!B41 -> 14 | C6: ='AAA Competition(Master)'!C41 -> ARCADIA | D6: 1597 | E6: 209 | F6: -9 | G6: =F6/E6 -> -0.043062201 | H6: {=SUMPRODUCT(($A$5:$A$94=A6)*(G6<$G$5:$G$94))+1} -> 9
A7: 3 | B7: ='AAA Competition(Master)'!B48 -> 23 | C7: ='AAA Competition(Master)'!C48 -> BIG PINE KEY | D7: 1810 | E7: 359 | F7: -2 | G7: =F7/E7 -> -0.0055710306 | H7: {=SUMPRODUCT(($A$5:$A$94=A7)*(G7<$G$5:$G$94))+1} -> 3
A8: 3 | B8: ='AAA Competition(Master)'!B44 -> 20 | C8: ='AAA Competition(Master)'!C44 -> BONITA SPRINGS | D8: 1611 | E8: 455 | F8: -47 | G8: =F8/E8 -> -0.1032967 | H8: {=SUMPRODUCT(($A$5:$A$94=A8)*(G8<$G$5:$G$94))+1} -> 28
A9: 3 | B9: ='AAA Competition(Master)'!B34 -> 13 | C9: ='AAA Competition(Master)'!C34 -> BRADENTON | D9: 1072 | E9: 368 | F9: -25 | G9: =F9/E9 -> -0.067934783 | H9: {=SUMPRODUCT(($A$5:$A$94=A9)*(G9<$G$5:$G$94))+1} -> 20
A10: 3 | B10: ='AAA Competition(Master)'!B67 -> 11 | C10: ='AAA Competition(Master)'!C67 -> BRANDON | D10: 1596 | E10: 291 | F10: -14 | G10: =F10/E10 -> -0.048109966 | H10: {=SUMPRODUCT(($A$5:$A$94=A10)*(G10<$G$5:$G$94))+1} -> 13
A11: 3 | B11: ='AAA Competition(Master)'!B88 -> 18 | C11: ='AAA Competition(Master)'!C88 -> CAPE CORAL | D11: 815 | E11: 487 | F11: -37 | G11: =F11/E11 -> -0.075975359 | H11: {=SUMPRODUCT(($A$5:$A$94=A11)*(G11<$G$5:$G$94))+1} -> 22
A12: 2 | B12: ='AAA Competition(Master)'!B55 -> 9 | C12: ='AAA Competition(Master)'!C55 -> COCOA | D12: 1383 | E12: 159 | F12: -14 | G12: =F12/E12 -> -0.088050314 | H12: {=SUMPRODUCT(($A$5:$A$94=A12)*(G12<$G$5:$G$94))+1} -> 21
A13: 2 | B13: ='AAA Competition(Master)'!B50 -> 5 | C13: ='AAA Competition(Master)'!C50 -> CRESCENT CITY | D13: 1825 | E13: 185 | F13: -6 | G13: =F13/E13 -> -0.032432432 | H13: {=SUMPRODUCT(($A$5:$A$94=A13)*(G13<$G$5:$G$94))+1} -> 8
A14: 2 | B14: ='AAA Competition(Master)'!B74 -> 4 | C14: ='AAA Competition(Master)'!C74 -> CRYSTAL RIVER | D14: 1434 | E14: 189 | F14: -13 | G14: =F14/E14 -> -0.068783069 | H14: {=SUMPRODUCT(($A$5:$A$94=A14)*(G14<$G$5:$G$94))+1} -> 17
A15: 1 | B15: ='AAA Competition(Master)'!B9 -> 8 | C15: ='AAA Competition(Master)'!C9 -> DADE CITY | D15: 1747 | E15: 69 | F15: -8 | G15: =F15/E15 -> -0.11594203 | H15: {=SUMPRODUCT(($A$5:$A$94=A15)*(G15<$G$5:$G$94))+1} -> 31
A16: 1 | B16: ='AAA Competition(Master)'!B62 -> 21 | C16: ='AAA Competition(Master)'!C62 -> DAVIE | D16: 1686 | E16: 90 | F16: -9 | G16: =F16/E16 -> -0.1 | H16: {=SUMPRODUCT(($A$5:$A$94=A16)*(G16<$G$5:$G$94))+1} -> 28
A17: 3 | B17: ='AAA Competition(Master)'!B35 -> 5 | C17: ='AAA Competition(Master)'!C35 -> DAYTONA BEACH | D17: 1019 | E17: 394 | F17: -19 | G17: =F17/E17 -> -0.04822335 | H17: {=SUMPRODUCT(($A$5:$A$94=A17)*(G17<$G$5:$G$94))+1} -> 14
A18: 1 | B18: ='AAA Competition(Master)'!B30 -> 7 | C18: ='AAA Competition(Master)'!C30 -> DELAND | D18: 1003 | E18: 129 | F18: 0 | G18: =F18/E18 -> 0 | H18: {=SUMPRODUCT(($A$5:$A$94=A18)*(G18<$G$5:$G$94))+1} -> 6
A19: 3 | B19: ='AAA Competition(Master)'!B98 -> 4 | C19: ='AAA Competition(Master)'!C98 -> DUNNELLON | D19: 1662 | E19: 279 | F19: -3 | G19: =F19/E19 -> -0.010752688 | H19: {=SUMPRODUCT(($A$5:$A$94=A19)*(G19<$G$5:$G$94))+1} -> 5
A20: 3 | B20: ='AAA Competition(Master)'!B70 -> 16 | C20: ='AAA Competition(Master)'!C70 -> ENGLEWOOD | D20: 1582 | E20: 1054 | F20: -65 | G20: =F20/E20 -> -0.061669829 | H20: {=SUMPRODUCT(($A$5:$A$94=A20)*(G20<$G$5:$G$94))+1} -> 16
A21: 2 | B21: ='AAA Competition(Master)'!B68 -> 19 | C21: ='AAA Competition(Master)'!C68 -> FORT MYERS | D21: 2461 | E21: 196 | F21: -12 | G21: =F21/E21 -> -0.06122449 | H21: {=SUMPRODUCT(($A$5:$A$94=A21)*(G21<$G$5:$G$94))+1} -> 15
A22: 3 | B22: ='AAA Competition(Master)'!B23 -> 18 | C22: ='AAA Competition(Master)'!C23 -> FORT MYERS BCH | D22: 551 | E22: 336 | F22: -27 | G22: =F22/E22 -> -0.080357143 | H22: {=SUMPRODUCT(($A$5:$A$94=A22)*(G22<$G$5:$G$94))+1} -> 24
A23: 2 | B23: ='AAA Competition(Master)'!B6 -> 15 | C23: ='AAA Competition(Master)'!C6 -> FORT PIERCE | D23: 1121 | E23: 201 | F23: -19 | G23: =F23/E23 -> -0.094527363 | H23: {=SUMPRODUCT(($A$5:$A$94=A23)*(G23<$G$5:$G$94))+1} -> 24
A24: 1 | B24: ='AAA Competition(Master)'!B87 -> 1 | C24: ='AAA Competition(Master)'!C87 -> FORT WALTON BEACH | D24: 2320 | E24: 112 | F24: -11 | G24: =F24/E24 -> -0.098214286 | H24: {=SUMPRODUCT(($A$5:$A$94=A24)*(G24<$G$5:$G$94))+1} -> 27
A25: 2 | B25: ='AAA Competition(Master)'!B17 -> 7 | C25: ='AAA Competition(Master)'!C17 -> FOUR TOWNES | D25: 1939 | E25: 195 | F25: -16 | G25: =F25/E25 -> -0.082051282 | H25: {=SUMPRODUCT(($A$5:$A$94=A25)*(G25<$G$5:$G$94))+1} -> 20
A26: 3 | B26: ='AAA Competition(Master)'!B118 -> 16 | C26: ='AAA Competition(Master)'!C118 -> GULF COVE | D26: 2252 | E26: 279 | F26: 1 | G26: =F26/E26 -> 0.0035842294 | H26: {=SUMPRODUCT(($A$5:$A$94=A26)*(G26<$G$5:$G$94))+1} -> 2
A27: 2 | B27: ='AAA Competition(Master)'!B15 -> 13 | C27: ='AAA Competition(Master)'!C15 -> GULF GATE | D27: 1770 | E27: 221 | F27: -24 | G27: =F27/E27 -> -0.10859729 | H27: {=SUMPRODUCT(($A$5:$A$94=A27)*(G27<$G$5:$G$94))+1} -> 26
A28: 1 | B28: ='AAA Competition(Master)'!B78 -> 12 | C28: ='AAA Competition(Master)'!C78 -> HAINES CITY | D28: 2127 | E28: 100 | F28: -5 | G28: =F28/E28 -> -0.05 | H28: {=SUMPRODUCT(($A$5:$A$94=A28)*(G28<$G$5:$G$94))+1} -> 17
A29: 1 | B29: ='AAA Competition(Master)'!B115 -> 5 | C29: ='AAA Competition(Master)'!C115 -> HALIFAX RIVER | D29: 2170 | E29: 88 | F29: -10 | G29: =F29/E29 -> -0.11363636 | H29: {=SUMPRODUCT(($A$5:$A$94=A29)*(G29<$G$5:$G$94))+1} -> 30
A30: 1 | B30: ='AAA Competition(Master)'!B113 -> 14 | C30: ='AAA Competition(Master)'!C113 -> HIGHLANDS CO | D30: 2256 | E30: 99 | F30: -2 | G30: =F30/E30 -> -0.02020202 | H30: {=SUMPRODUCT(($A$5:$A$94=A30)*(G30<$G$5:$G$94))+1} -> 9
A31: 2 | B31: ='AAA Competition(Master)'!B79 -> 4 | C31: ='AAA Competition(Master)'!C79 -> INVERNESS | D31: 1773 | E31: 255 | F31: -4 | G31: =F31/E31 -> -0.015686275 | H31: {=SUMPRODUCT(($A$5:$A$94=A31)*(G31<$G$5:$G$94))+1} -> 5
A32: 1 | B32: ='AAA Competition(Master)'!B11 -> 3 | C32: ='AAA Competition(Master)'!C11 -> JACKSONVILLE | D32: 305 | E32: 116 | F32: 4 | G32: =F32/E32 -> 0.034482759 | H32: {=SUMPRODUCT(($A$5:$A$94=A32)*(G32<$G$5:$G$94))+1} -> 4
A33: 2 | B33: ='AAA Competition(Master)'!B47 -> 3 | C33: ='AAA Competition(Master)'!C47 -> JACKSONVILLE BEACH | D33: 1381 | E33: 183 | F33: 1 | G33: =F33/E33 -> 0.0054644809 | H33: {=SUMPRODUCT(($A$5:$A$94=A33)*(G33<$G$5:$G$94))+1} -> 2
A34: 1 | B34: ='AAA Competition(Master)'!B53 -> 15 | C34: ='AAA Competition(Master)'!C53 -> JENSEN BEACH | D34: 1821 | E34: 39 | F34: -8 | G34: =F34/E34 -> -0.20512821 | H34: {=SUMPRODUCT(($A$5:$A$94=A34)*(G34<$G$5:$G$94))+1} -> 32
A35: 1 | B35: ='AAA Competition(Master)'!B76 -> 6 | C35: ='AAA Competition(Master)'!C76 -> KISSIMMEE | D35: 1849 | E35: 65 | F35: 7 | G35: =F35/E35 -> 0.10769231 | H35: {=SUMPRODUCT(($A$5:$A$94=A35)*(G35<$G$5:$G$94))+1} -> 1
A36: 1 | B36: ='AAA Competition(Master)'!B16 -> 2 | C36: ='AAA Competition(Master)'!C16 -> LAKE CITY | D36: 1399 | E36: 126 | F36: -4 | G36: =F36/E36 -> -0.031746032 | H36: {=SUMPRODUCT(($A$5:$A$94=A36)*(G36<$G$5:$G$94))+1} -> 11
A37: 2 | B37: ='AAA Competition(Master)'!B105 -> 14 | C37: ='AAA Competition(Master)'!C105 -> LAKE PLACID | D37: 1960 | E37: 164 | F37: -23 | G37: =F37/E37 -> -0.1402439 | H37: {=SUMPRODUCT(($A$5:$A$94=A37)*(G37<$G$5:$G$94))+1} -> 29
A38: 3 | B38: ='AAA Competition(Master)'!B75 -> 2 | C38: ='AAA Competition(Master)'!C75 -> LAKE SHORE | D38: 1495 | E38: 563 | F38: -10 | G38: =F38/E38 -> -0.017761989 | H38: {=SUMPRODUCT(($A$5:$A$94=A38)*(G38<$G$5:$G$94))+1} -> 7
A39: 1 | B39: ='AAA Competition(Master)'!B106 -> 12 | C39: ='AAA Competition(Master)'!C106 -> LAKE WALES | D39: 1974 | E39: 145 | F39: -4 | G39: =F39/E39 -> -0.027586207 | H39: {=SUMPRODUCT(($A$5:$A$94=A39)*(G39<$G$5:$G$94))+1} -> 10
A40: 2 | B40: ='AAA Competition(Master)'!B24 -> 17 | C40: ='AAA Competition(Master)'!C24 -> LAKE WORTH | D40: 46 | E40: 180 | F40: -12 | G40: =F40/E40 -> -0.066666667 | H40: {=SUMPRODUCT(($A$5:$A$94=A40)*(G40<$G$5:$G$94))+1} -> 16
A41: 1 | B41: ='AAA Competition(Master)'!B69 -> 8 | C41: ='AAA Competition(Master)'!C69 -> LAND O' LAKES | D41: 2322 | E41: 149 | F41: -13 | G41: =F41/E41 -> -0.087248322 | H41: {=SUMPRODUCT(($A$5:$A$94=A41)*(G41<$G$5:$G$94))+1} -> 26
A42: 1 | B42: ='AAA Competition(Master)'!B89 -> 10 | C42: ='AAA Competition(Master)'!C89 -> LARGO | D42: 1697 | E42: 120 | F42: -4 | G42: =F42/E42 -> -0.033333333 | H42: {=SUMPRODUCT(($A$5:$A$94=A42)*(G42<$G$5:$G$94))+1} -> 12
A43: 3 | B43: ='AAA Competition(Master)'!B94 -> 21 | C43: ='AAA Competition(Master)'!C94 -> LAUDERDALE LAKES | D43: 1699 | E43: 285 | F43: -6 | G43: =F43/E43 -> -0.021052632 | H43: {=SUMPRODUCT(($A$5:$A$94=A43)*(G43<$G$5:$G$94))+1} -> 8
A44: 2 | B44: ='AAA Competition(Master)'!B36 -> 6 | C44: ='AAA Competition(Master)'!C36 -> LEESBURG | D44: 1034 | E44: 177 | F44: -9 | G44: =F44/E44 -> -0.050847458 | H44: {=SUMPRODUCT(($A$5:$A$94=A44)*(G44<$G$5:$G$94))+1} -> 13
A45: 2 | B45: ='AAA Competition(Master)'!B91 -> 22 | C45: ='AAA Competition(Master)'!C91 -> LEISURE CITY | D45: 1572 | E45: 152 | F45: -7 | G45: =F45/E45 -> -0.046052632 | H45: {=SUMPRODUCT(($A$5:$A$94=A45)*(G45<$G$5:$G$94))+1} -> 10
A46: 3 | B46: ='AAA Competition(Master)'!B3 -> 2 | C46: ='AAA Competition(Master)'!C3 -> MANDARIN | D46: 1218 | E46: 320 | F46: -21 | G46: =F46/E46 -> -0.065625 | H46: {=SUMPRODUCT(($A$5:$A$94=A46)*(G46<$G$5:$G$94))+1} -> 17
A47: 1 | B47: ='AAA Competition(Master)'!B27 -> 1 | C47: ='AAA Competition(Master)'!C27 -> MARIANNA | D47: 1286 | E47: 52 | F47: -4 | G47: =F47/E47 -> -0.076923077 | H47: {=SUMPRODUCT(($A$5:$A$94=A47)*(G47<$G$5:$G$94))+1} -> 22
A48: 2 | B48: ='AAA Competition(Master)'!B43 -> 9 | C48: ='AAA Competition(Master)'!C43 -> MELBOURNE | D48: 1046 | E48: 228 | F48: -17 | G48: =F48/E48 -> -0.074561404 | H48: {=SUMPRODUCT(($A$5:$A$94=A48)*(G48<$G$5:$G$94))+1} -> 18
A49: 3 | B49: ='AAA Competition(Master)'!B77 -> 9 | C49: ='AAA Competition(Master)'!C77 -> MERRITT ISLAND | D49: 1544 | E49: 555 | F49: -23 | G49: =F49/E49 -> -0.041441441 | H49: {=SUMPRODUCT(($A$5:$A$94=A49)*(G49<$G$5:$G$94))+1} -> 12
A50: 1 | B50: ='AAA Competition(Master)'!B32 -> 21 | C50: ='AAA Competition(Master)'!C32 -> MIRAMAR | D50: 1698 | E50: 52 | F50: -2 | G50: =F50/E50 -> -0.038461538 | H50: {=SUMPRODUCT(($A$5:$A$94=A50)*(G50<$G$5:$G$94))+1} -> 13
A51: 2 | B51: ='AAA Competition(Master)'!B61 -> 20 | C51: ='AAA Competition(Master)'!C61 -> NAPLES | D51: 1304 | E51: 258 | F51: -30 | G51: =F51/E51 -> -0.11627907 | H51: {=SUMPRODUCT(($A$5:$A$94=A51)*(G51<$G$5:$G$94))+1} -> 27
A52: 2 | B52: ='AAA Competition(Master)'!B101 -> 3 | C52: ='AAA Competition(Master)'!C101 -> NASSAU | D52: 2355 | E52: 170 | F52: -8 | G52: =F52/E52 -> -0.047058824 | H52: {=SUMPRODUCT(($A$5:$A$94=A52)*(G52<$G$5:$G$94))+1} -> 11
A53: 1 | B53: ='AAA Competition(Master)'!B57 -> 8 | C53: ='AAA Competition(Master)'!C57 -> NEW PORT RICHEY | D53: 925 | E53: 147 | F53: 6 | G53: =F53/E53 -> 0.040816327 | H53: {=SUMPRODUCT(($A$5:$A$94=A53)*(G53<$G$5:$G$94))+1} -> 3
A54: 1 | B54: ='AAA Competition(Master)'!B65 -> 7 | C54: ='AAA Competition(Master)'!C65 -> NEW SMYRNA BEACH | D54: 1515 | E54: 144 | F54: -9 | G54: =F54/E54 -> -0.0625 | H54: {=SUMPRODUCT(($A$5:$A$94=A54)*(G54<$G$5:$G$94))+1} -> 21
A55: 2 | B55: ='AAA Competition(Master)'!B104 -> 10 | C55: ='AAA Competition(Master)'!C104 -> NORTH BAY | D55: 2303 | E55: 174 | F55: 0 | G55: =F55/E55 -> 0 | H55: {=SUMPRODUCT(($A$5:$A$94=A55)*(G55<$G$5:$G$94))+1} -> 3
A56: 1 | B56: ='AAA Competition(Master)'!B56 -> 11 | C56: ='AAA Competition(Master)'!C56 -> NORTH HILLSBORO | D56: 1763 | E56: 107 | F56: -9 | G56: =F56/E56 -> -0.08411215 | H56: {=SUMPRODUCT(($A$5:$A$94=A56)*(G56<$G$5:$G$94))+1} -> 25
A57: 3 | B57: ='AAA Competition(Master)'!B18 -> 16 | C57: ='AAA Competition(Master)'!C18 -> NORTH PORT | D57: 1892 | E57: 448 | F57: -42 | G57: =F57/E57 -> -0.09375 | H57: {=SUMPRODUCT(($A$5:$A$94=A57)*(G57<$G$5:$G$94))+1} -> 26
A58: 1 | B58: ='AAA Competition(Master)'!B116 -> 4 | C58: ='AAA Competition(Master)'!C116 -> OCALA FOREST | D58: 2182 | E58: 114 | F58: -7 | G58: =F58/E58 -> -0.061403509 | H58: {=SUMPRODUCT(($A$5:$A$94=A58)*(G58<$G$5:$G$94))+1} -> 20
A59: 1 | B59: ='AAA Competition(Master)'!B58 -> 15 | C59: ='AAA Competition(Master)'!C58 -> OKEECHOBEE | D59: 956 | E59: 140 | F59: 6 | G59: =F59/E59 -> 0.042857143 | H59: {=SUMPRODUCT(($A$5:$A$94=A59)*(G59<$G$5:$G$94))+1} -> 2
A60: 3 | B60: ='AAA Competition(Master)'!B19 -> 6 | C60: ='AAA Competition(Master)'!C19 -> ORLANDO | D60: 1002 | E60: 279 | F60: -11 | G60: =F60/E60 -> -0.039426523 | H60: {=SUMPRODUCT(($A$5:$A$94=A60)*(G60<$G$5:$G$94))+1} -> 10
A61: 3 | B61: ='AAA Competition(Master)'!B4 -> 5 | C61: ='AAA Competition(Master)'!C4 -> PALATKA | D61: 1915 | E61: 515 | F61: -8 | G61: =F61/E61 -> -0.015533981 | H61: {=SUMPRODUCT(($A$5:$A$94=A61)*(G61<$G$5:$G$94))+1} -> 6
A62: 1 | B62: ='AAA Competition(Master)'!B99 -> 9 | C62: ='AAA Competition(Master)'!C99 -> PALM BAY | D62: 2193 | E62: 119 | F62: -13 | G62: =F62/E62 -> -0.1092437 | H62: {=SUMPRODUCT(($A$5:$A$94=A62)*(G62<$G$5:$G$94))+1} -> 29
A63: 3 | B63: ='AAA Competition(Master)'!B73 -> 17 | C63: ='AAA Competition(Master)'!C73 -> PALM BCH GARDENS | D63: 1471 | E63: 483 | F63: -13 | G63: =F63/E63 -> -0.026915114 | H63: {=SUMPRODUCT(($A$5:$A$94=A63)*(G63<$G$5:$G$94))+1} -> 9
A64: 1 | B64: ='AAA Competition(Master)'!B10 -> 10 | C64: ='AAA Competition(Master)'!C10 -> PALM HARBOR | D64: 30 | E64: 98 | F64: -6 | G64: =F64/E64 -> -0.06122449 | H64: {=SUMPRODUCT(($A$5:$A$94=A64)*(G64<$G$5:$G$94))+1} -> 19
A65: 3 | B65: ='AAA Competition(Master)'!B80 -> 13 | C65: ='AAA Competition(Master)'!C80 -> PALMETTO | D65: 1225 | E65: 407 | F65: -21 | G65: =F65/E65 -> -0.051597052 | H65: {=SUMPRODUCT(($A$5:$A$94=A65)*(G65<$G$5:$G$94))+1} -> 15
A66: 1 | B66: ='AAA Competition(Master)'!B42 -> 1 | C66: ='AAA Competition(Master)'!C42 -> PANAMA CITY | D66: 1756 | E66: 47 | F66: -2 | G66: =F66/E66 -> -0.042553191 | H66: {=SUMPRODUCT(($A$5:$A$94=A66)*(G66<$G$5:$G$94))+1} -> 14
A67: 1 | B67: ='AAA Competition(Master)'!B8 -> 22 | C67: ='AAA Competition(Master)'!C8 -> PERRINE | D67: 1610 | E67: 46 | F67: -2 | G67: =F67/E67 -> -0.043478261 | H67: {=SUMPRODUCT(($A$5:$A$94=A67)*(G67<$G$5:$G$94))+1} -> 15
A68: 2 | B68: ='AAA Competition(Master)'!B100 -> 6 | C68: ='AAA Competition(Master)'!C100 -> PINE CASTLE | D68: 1917 | E68: 171 | F68: 4 | G68: =F68/E68 -> 0.023391813 | H68: {=SUMPRODUCT(($A$5:$A$94=A68)*(G68<$G$5:$G$94))+1} -> 1
A69: 2 | B69: ='AAA Competition(Master)'!B71 -> 18 | C69: ='AAA Competition(Master)'!C71 -> PINE ISLAND | D69: 1843 | E69: 183 | F69: -5 | G69: =F69/E69 -> -0.027322404 | H69: {=SUMPRODUCT(($A$5:$A$94=A69)*(G69<$G$5:$G$94))+1} -> 6
A70: 2 | B70: ='AAA Competition(Master)'!B84 -> 21 | C70: ='AAA Competition(Master)'!C84 -> POMPANO BCH | D70: 600 | E70: 162 | F70: -13 | G70: =F70/E70 -> -0.080246914 | H70: {=SUMPRODUCT(($A$5:$A$94=A70)*(G70<$G$5:$G$94))+1} -> 19
A71: 3 | B71: ='AAA Competition(Master)'!B81 -> 16 | C71: ='AAA Competition(Master)'!C81 -> PORT CHARLOTTE | D71: 1619 | E71: 548 | F71: -36 | G71: =F71/E71 -> -0.065693431 | H71: {=SUMPRODUCT(($A$5:$A$94=A71)*(G71<$G$5:$G$94))+1} -> 18
A72: 1 | B72: ='AAA Competition(Master)'!B12 -> 15 | C72: ='AAA Competition(Master)'!C12 -> PORT ST. LUCIE | D72: 1236 | E72: 116 | F72: 1 | G72: =F72/E72 -> 0.0086206897 | H72: {=SUMPRODUCT(($A$5:$A$94=A72)*(G72<$G$5:$G$94))+1} -> 5
A73: 3 | B73: ='AAA Competition(Master)'!B54 -> 16 | C73: ='AAA Competition(Master)'!C54 -> PUNTA GORDA | D73: 777 | E73: 290 | F73: 6 | G73: =F73/E73 -> 0.020689655 | H73: {=SUMPRODUCT(($A$5:$A$94=A73)*(G73<$G$5:$G$94))+1} -> 1
A74: 1 | B74: ='AAA Competition(Master)'!B119 -> 1 | C74: ='AAA Competition(Master)'!C119 -> QUINCY | D74: 2398 | E74: 36 | F74: -2 | G74: =F74/E74 -> -0.055555556 | H74: {=SUMPRODUCT(($A$5:$A$94=A74)*(G74<$G$5:$G$94))+1} -> 18
A75: 2 | B75: ='AAA Competition(Master)'!B85 -> 11 | C75: ='AAA Competition(Master)'!C85 -> RIVERVIEW | D75: 1031 | E75: 167 | F75: -21 | G75: =F75/E75 -> -0.1257485 | H75: {=SUMPRODUCT(($A$5:$A$94=A75)*(G75<$G$5:$G$94))+1} -> 28
A76: 3 | B76: ='AAA Competition(Master)'!B66 -> 7 | C76: ='AAA Competition(Master)'!C66 -> SANFORD | D76: 1404 | E76: 277 | F76: -29 | G76: =F76/E76 -> -0.10469314 | H76: {=SUMPRODUCT(($A$5:$A$94=A76)*(G76<$G$5:$G$94))+1} -> 29
A77: 3 | B77: ='AAA Competition(Master)'!B40 -> 13 | C77: ='AAA Competition(Master)'!C40 -> SARASOTA | D77: 1968 | E77: 354 | F77: -24 | G77: =F77/E77 -> -0.06779661 | H77: {=SUMPRODUCT(($A$5:$A$94=A77)*(G77<$G$5:$G$94))+1} -> 19
A78: 2 | B78: ='AAA Competition(Master)'!B103 -> 9 | C78: ='AAA Competition(Master)'!C103 -> SATELLITE BEACH | D78: 1983 | E78: 202 | F78: -10 | G78: =F78/E78 -> -0.04950495 | H78: {=SUMPRODUCT(($A$5:$A$94=A78)*(G78<$G$5:$G$94))+1} -> 12
A79: 2 | B79: ='AAA Competition(Master)'!B60 -> 9 | C79: ='AAA Competition(Master)'!C60 -> SEBASTIAN RIVER | D79: 1764 | E79: 191 | F79: -6 | G79: =F79/E79 -> -0.031413613 | H79: {=SUMPRODUCT(($A$5:$A$94=A79)*(G79<$G$5:$G$94))+1} -> 7
A80: 1 | B80: ='AAA Competition(Master)'!B33 -> 4 | C80: ='AAA Competition(Master)'!C33 -> SILVER SPRINGS | D80: 459 | E80: 108 | F80: -2 | G80: =F80/E80 -> -0.018518519 | H80: {=SUMPRODUCT(($A$5:$A$94=A80)*(G80<$G$5:$G$94))+1} -> 8
A81: 2 | B81: ='AAA Competition(Master)'!B49 -> 6 | C81: ='AAA Competition(Master)'!C49 -> SOUTH LAKE COUNTY | D81: 1170 | E81: 182 | F81: -19 | G81: =F81/E81 -> -0.1043956 | H81: {=SUMPRODUCT(($A$5:$A$94=A81)*(G81<$G$5:$G$94))+1} -> 25
A82: 2 | B82: ='AAA Competition(Master)'!B13 -> 8 | C82: ='AAA Competition(Master)'!C13 -> SPRING HILL | D82: 1765 | E82: 246 | F82: -23 | G82: =F82/E82 -> -0.093495935 | H82: {=SUMPRODUCT(($A$5:$A$94=A82)*(G82<$G$5:$G$94))+1} -> 23
A83: 1 | B83: ='AAA Competition(Master)'!B37 -> 17 | C83: ='AAA Competition(Master)'!C37 -> STUART | D83: 1651 | E83: 88 | F83: -7 | G83: =F83/E83 -> -0.079545455 | H83: {=SUMPRODUCT(($A$5:$A$94=A83)*(G83<$G$5:$G$94))+1} -> 23
A84: 2 | B84: ='AAA Competition(Master)'!B29 -> 1 | C84: ='AAA Competition(Master)'!C29 -> TALLAHASSEE | D84: 1103 | E84: 206 | F84: -3 | G84: =F84/E84 -> -0.014563107 | H84: {=SUMPRODUCT(($A$5:$A$94=A84)*(G84<$G$5:$G$94))+1} -> 4
A85: 3 | B85: ='AAA Competition(Master)'!B38 -> 19 | C85: ='AAA Competition(Master)'!C38 -> TICE & THE SHORES | D85: 562 | E85: 347 | F85: -27 | G85: =F85/E85 -> -0.077809798 | H85: {=SUMPRODUCT(($A$5:$A$94=A85)*(G85<$G$5:$G$94))+1} -> 23
A86: 1 | B86: ='AAA Competition(Master)'!B72 -> 7 | C86: ='AAA Competition(Master)'!C72 -> TITUSVILLE | D86: 1485 | E86: 84 | F86: -7 | G86: =F86/E86 -> -0.083333333 | H86: {=SUMPRODUCT(($A$5:$A$94=A86)*(G86<$G$5:$G$94))+1} -> 24
A87: 3 | B87: ='AAA Competition(Master)'!B39 -> 16 | C87: ='AAA Competition(Master)'!C39 -> VENICE | D87: 758 | E87: 688 | F87: -68 | G87: =F87/E87 -> -0.098837209 | H87: {=SUMPRODUCT(($A$5:$A$94=A87)*(G87<$G$5:$G$94))+1} -> 27
A88: 3 | B88: ='AAA Competition(Master)'!B63 -> 15 | C88: ='AAA Competition(Master)'!C63 -> VERO BEACH | D88: 1541 | E88: 394 | F88: -16 | G88: =F88/E88 -> -0.040609137 | H88: {=SUMPRODUCT(($A$5:$A$94=A88)*(G88<$G$5:$G$94))+1} -> 11
A89: 1 | B89: ='AAA Competition(Master)'!B114 -> 1 | C89: ='AAA Competition(Master)'!C114 -> WAKULLA COUNTY | D89: 2224 | E89: 130 | F89: -6 | G89: =F89/E89 -> -0.046153846 | H89: {=SUMPRODUCT(($A$5:$A$94=A89)*(G89<$G$5:$G$94))+1} -> 16
A90: 2 | B90: ='AAA Competition(Master)'!B5 -> 21 | C90: ='AAA Competition(Master)'!C5 -> WEST BOCA RATON | D90: 2273 | E90: 221 | F90: -13 | G90: =F90/E90 -> -0.058823529 | H90: {=SUMPRODUCT(($A$5:$A$94=A90)*(G90<$G$5:$G$94))+1} -> 14
A91: 1 | B91: ='AAA Competition(Master)'!B64 -> 22 | C91: ='AAA Competition(Master)'!C64 -> WEST DADE | D91: 1472 | E91: 109 | F91: -1 | G91: =F91/E91 -> -0.0091743119 | H91: {=SUMPRODUCT(($A$5:$A$94=A91)*(G91<$G$5:$G$94))+1} -> 7
A92: 2 | B92: ='AAA Competition(Master)'!B117 -> 7 | C92: ='AAA Competition(Master)'!C117 -> WEST VOLUSIA | D92: 2202 | E92: 153 | F92: -14 | G92: =F92/E92 -> -0.091503268 | H92: {=SUMPRODUCT(($A$5:$A$94=A92)*(G92<$G$5:$G$94))+1} -> 22
A93: 3 | B93: ='AAA Competition(Master)'!B26 -> 12 | C93: ='AAA Competition(Master)'!C26 -> WINTER HAVEN | D93: 1152 | E93: 412 | F93: -4 | G93: =F93/E93 -> -0.0097087379 | H93: {=SUMPRODUCT(($A$5:$A$94=A93)*(G93<$G$5:$G$94))+1} -> 4
A94: 3 | B94: ='AAA Competition(Master)'!B95 -> 8 | C94: ='AAA Competition(Master)'!C95 -> ZEPHYRHILLS | D94: 1682 | E94: 577 | F94: -49 | G94: =F94/E94 -> -0.08492201 | H94: {=SUMPRODUCT(($A$5:$A$94=A94)*(G94<$G$5:$G$94))+1} -> 25
